BEGIN:VCALENDAR
VERSION:2.0
PRODID:-//Grand Traverse Humanists - ECPv6.15.14//NONSGML v1.0//EN
CALSCALE:GREGORIAN
METHOD:PUBLISH
X-WR-CALNAME:Grand Traverse Humanists
X-ORIGINAL-URL:https://gthumanists.org
X-WR-CALDESC:Events for Grand Traverse Humanists
REFRESH-INTERVAL;VALUE=DURATION:PT1H
X-Robots-Tag:noindex
X-PUBLISHED-TTL:PT1H
BEGIN:VTIMEZONE
TZID:America/Detroit
BEGIN:DAYLIGHT
TZOFFSETFROM:-0500
TZOFFSETTO:-0400
TZNAME:EDT
DTSTART:20240310T070000
END:DAYLIGHT
BEGIN:STANDARD
TZOFFSETFROM:-0400
TZOFFSETTO:-0500
TZNAME:EST
DTSTART:20241103T060000
END:STANDARD
BEGIN:DAYLIGHT
TZOFFSETFROM:-0500
TZOFFSETTO:-0400
TZNAME:EDT
DTSTART:20250309T070000
END:DAYLIGHT
BEGIN:STANDARD
TZOFFSETFROM:-0400
TZOFFSETTO:-0500
TZNAME:EST
DTSTART:20251102T060000
END:STANDARD
BEGIN:DAYLIGHT
TZOFFSETFROM:-0500
TZOFFSETTO:-0400
TZNAME:EDT
DTSTART:20260308T070000
END:DAYLIGHT
BEGIN:STANDARD
TZOFFSETFROM:-0400
TZOFFSETTO:-0500
TZNAME:EST
DTSTART:20261101T060000
END:STANDARD
END:VTIMEZONE
BEGIN:VEVENT
DTSTART;TZID=America/Detroit:20250210T180000
DTEND;TZID=America/Detroit:20250210T193000
DTSTAMP:20260419T091434
CREATED:20250206T215017Z
LAST-MODIFIED:20250206T215017Z
UID:4808-1739210400-1739215800@gthumanists.org
SUMMARY:G.T. Humanists Meeting: AI For You and I
DESCRIPTION:Join the Grand Traverse Humanists as they welcome Scott Morey\, Assistant Director of Technology for the Traverse Area District Library\, with a talk called “AI For You and I.”\n\nArtificial Intelligence seems poised to be the next revolutionary technology advancement and is already used by millions. However\, the technology also has drawn criticism from many\, and some even consider it an existential threat to our way of life. In this presentation you will be provided with an overview of the science behind AI and examples of how AI can be used by individuals and businesses. Scott will also explore the ethical concerns of technology and delve into the latest AI news\, including the implications of the Chinese-created chatbot DeepSeek.\n\nPlease note this meeting is being held in place of the previously scheduled presentation by League of Women Voters Grand Traverse Area Chapter President Christine Schlitt on election integrity. We plan to reschedule that meeting for a later date.
URL:https://gthumanists.org/event/g-t-humanists-meeting-ai-for-you-and-i/
LOCATION:Traverse Area District Library\, 610 Woodmere Ave.\, Traverse City
CATEGORIES:Meeting
ATTACH;FMTTYPE=image/jpeg:https://gthumanists.org/handbookcabbagesparrow/wp-content/uploads/2025/02/scottmorey.jpg
END:VEVENT
BEGIN:VEVENT
DTSTART;TZID=America/Detroit:20250216T160000
DTEND;TZID=America/Detroit:20250216T180000
DTSTAMP:20260419T091434
CREATED:20250108T193007Z
LAST-MODIFIED:20250108T193007Z
UID:4786-1739721600-1739728800@gthumanists.org
SUMMARY:G.T. Humanists Book Club: The Rosie Project
DESCRIPTION:The Grand Traverse Humanist’s next book club selection is the novel “The Rosie Project” by Graeme Simsion.\nWe will meet to discuss the book at the home of John Wierenga. Please RSVP to him at jwier71@gmail.com or 231-943-2158. Bring a dish to pass\, if you like\, as well as your ideas for future book club selections.\n\nDescription of “The Rosie Project” from amazon.com:\n“The art of love is never a science: Meet Don Tillman\, a brilliant yet socially inept professor of genetics\, who’s decided it’s time he found a wife. In the orderly\, evidence-based manner with which Don approaches all things\, he designs the Wife Project to find his perfect partner: a sixteen-page\, scientifically valid survey to filter out the drinkers\, the smokers\, the late arrivers.\nRosie Jarman possesses all these qualities. Don easily disqualifies her as a candidate for The Wife Project (even if she is “quite intelligent for a barmaid”). But Don is intrigued by Rosie’s own quest to identify her biological father. When an unlikely relationship develops as they collaborate on The Father Project\, Don is forced to confront the spontaneous whirlwind that is Rosie―and the realization that\, despite your best scientific efforts\, you don’t find love\, it finds you.”
URL:https://gthumanists.org/event/g-t-humanists-book-club-the-rosie-project/
LOCATION:Home of John Wierenga\, 8400 Crisp Rd.\, Williamsburg\, MI\, 49690\, United States
CATEGORIES:Book Club
ATTACH;FMTTYPE=image/jpeg:https://gthumanists.org/handbookcabbagesparrow/wp-content/uploads/2025/01/rosie.jpg
ORGANIZER;CN="John Wierenga":MAILTO:jwier71@gmail.com
END:VEVENT
BEGIN:VEVENT
DTSTART;TZID=America/Detroit:20250222T080000
DTEND;TZID=America/Detroit:20250222T170000
DTSTAMP:20260419T091434
CREATED:20250221T152300Z
LAST-MODIFIED:20250222T152512Z
UID:4825-1740211200-1740243600@gthumanists.org
SUMMARY:GT Humanists Meeting April 14: Inspired by Art
DESCRIPTION:Humanism is a life philospohy informed by science\, motivated by compassion\, and inspired by art. Join us at the Traverse Area District Library\, 610 Woodmere Ave.\, at 6 p.m. on April 14 for a Humanist celebration of the arts! Come see what your fellow Humanist artists are creating\, and learn about their craft\, process\, and thoughts about art’s role in our lives. The meeting is free and open to the public. Hope to see you there!
URL:https://gthumanists.org/event/gth-meeting-april-14-inspired-by-art/
END:VEVENT
BEGIN:VEVENT
DTSTART;TZID=America/Detroit:20250224T180000
DTEND;TZID=America/Detroit:20250224T200000
DTSTAMP:20260419T091434
CREATED:20250222T151114Z
LAST-MODIFIED:20250222T151302Z
UID:4804-1740420000-1740427200@gthumanists.org
SUMMARY:Hungry Humanists: India Garden Feb 24\, 6 pm
DESCRIPTION:Join the Grand Traverse Humanists as we dine together at the new India Garden restaurant in Traverse City! Check out their menu here: https://indiagrdn.com/menu/\n\nIndia Garden is located at the former Scalawag’s\, next to the parking garage on State Street. Please email or text Bob Simon to RSVP at 517-449-3432\, or rwsimon44@gmail.com.
URL:https://gthumanists.org/event/hungry-humanists-india-garden/
LOCATION:India Garden\, 303 E. State St.\, Traverse City\, MI\, 49684\, United States
CATEGORIES:Hungry Humanists
ATTACH;FMTTYPE=image/webp:https://gthumanists.org/handbookcabbagesparrow/wp-content/uploads/2025/02/indiagarden.webp
END:VEVENT
END:VCALENDAR