BEGIN:VCALENDAR
VERSION:2.0
PRODID:-//Grand Traverse Humanists - ECPv6.15.14//NONSGML v1.0//EN
CALSCALE:GREGORIAN
METHOD:PUBLISH
X-WR-CALNAME:Grand Traverse Humanists
X-ORIGINAL-URL:https://gthumanists.org
X-WR-CALDESC:Events for Grand Traverse Humanists
REFRESH-INTERVAL;VALUE=DURATION:PT1H
X-Robots-Tag:noindex
X-PUBLISHED-TTL:PT1H
BEGIN:VTIMEZONE
TZID:America/Detroit
BEGIN:DAYLIGHT
TZOFFSETFROM:-0500
TZOFFSETTO:-0400
TZNAME:EDT
DTSTART:20240310T070000
END:DAYLIGHT
BEGIN:STANDARD
TZOFFSETFROM:-0400
TZOFFSETTO:-0500
TZNAME:EST
DTSTART:20241103T060000
END:STANDARD
BEGIN:DAYLIGHT
TZOFFSETFROM:-0500
TZOFFSETTO:-0400
TZNAME:EDT
DTSTART:20250309T070000
END:DAYLIGHT
BEGIN:STANDARD
TZOFFSETFROM:-0400
TZOFFSETTO:-0500
TZNAME:EST
DTSTART:20251102T060000
END:STANDARD
BEGIN:DAYLIGHT
TZOFFSETFROM:-0500
TZOFFSETTO:-0400
TZNAME:EDT
DTSTART:20260308T070000
END:DAYLIGHT
BEGIN:STANDARD
TZOFFSETFROM:-0400
TZOFFSETTO:-0500
TZNAME:EST
DTSTART:20261101T060000
END:STANDARD
END:VTIMEZONE
BEGIN:VEVENT
DTSTART;TZID=America/Detroit:20250113T180000
DTEND;TZID=America/Detroit:20250113T193000
DTSTAMP:20260419T114315
CREATED:20250102T233735Z
LAST-MODIFIED:20250108T193734Z
UID:4782-1736791200-1736796600@gthumanists.org
SUMMARY:G.T. Humanists Meeting: Dr. Mark Elliott on Heart Attacks
DESCRIPTION:The Grand Traverse Humanists will present a program by Dr. Mark Elliott\, a retired cardiologist from Munson Medical Center\, titled “So You’re Having a Heart Attack.” What exactly is a heart attack? What do I do? What’s going to happen to me in the emergency room and in the hospital? How do I prevent this from happening again or in the first place? Learn the answers to all this and more\, Monday\, January 13 at 6 PM\, at the Traverse Area District Library.
URL:https://gthumanists.org/event/4782/
LOCATION:Traverse Area District Library\, 610 Woodmere Ave.\, Traverse City
CATEGORIES:Meeting
ATTACH;FMTTYPE=image/jpeg:https://gthumanists.org/handbookcabbagesparrow/wp-content/uploads/2025/01/markelliott.jpg
END:VEVENT
BEGIN:VEVENT
DTSTART;TZID=America/Detroit:20250128T180000
DTEND;TZID=America/Detroit:20250128T200000
DTSTAMP:20260419T114315
CREATED:20250108T193639Z
LAST-MODIFIED:20250108T193639Z
UID:4791-1738087200-1738094400@gthumanists.org
SUMMARY:Hungry Humanists: Opa! Grill & Taproom
DESCRIPTION:Our next gathering of the Hungry Humanists will take place at Opa! Grill & Taproom in Traverse City. Their menu features gyros and flatbreads\, coney dogs\, appetizers\, and salads\, as well as an extensive beer menu. We’ll be meeting on Tuesday night\, due to the restaurant being closed on Monday.\nPlease RSVP to Mark at 231-392-1215 to attend.
URL:https://gthumanists.org/event/hungry-humanists-opa-grill-taproom/
LOCATION:Opa! Grille & Taproom\, 2658 Crossing Circle\, Traverse City\, MI\, 49684\, United States
CATEGORIES:Hungry Humanists
ATTACH;FMTTYPE=image/jpeg:https://gthumanists.org/handbookcabbagesparrow/wp-content/uploads/2025/01/opa.jpg
END:VEVENT
END:VCALENDAR