BEGIN:VCALENDAR
VERSION:2.0
PRODID:-//Grand Traverse Humanists - ECPv6.15.14//NONSGML v1.0//EN
CALSCALE:GREGORIAN
METHOD:PUBLISH
X-ORIGINAL-URL:https://gthumanists.org
X-WR-CALDESC:Events for Grand Traverse Humanists
REFRESH-INTERVAL;VALUE=DURATION:PT1H
X-Robots-Tag:noindex
X-PUBLISHED-TTL:PT1H
BEGIN:VTIMEZONE
TZID:America/Detroit
BEGIN:DAYLIGHT
TZOFFSETFROM:-0500
TZOFFSETTO:-0400
TZNAME:EDT
DTSTART:20230312T070000
END:DAYLIGHT
BEGIN:STANDARD
TZOFFSETFROM:-0400
TZOFFSETTO:-0500
TZNAME:EST
DTSTART:20231105T060000
END:STANDARD
BEGIN:DAYLIGHT
TZOFFSETFROM:-0500
TZOFFSETTO:-0400
TZNAME:EDT
DTSTART:20240310T070000
END:DAYLIGHT
BEGIN:STANDARD
TZOFFSETFROM:-0400
TZOFFSETTO:-0500
TZNAME:EST
DTSTART:20241103T060000
END:STANDARD
BEGIN:DAYLIGHT
TZOFFSETFROM:-0500
TZOFFSETTO:-0400
TZNAME:EDT
DTSTART:20250309T070000
END:DAYLIGHT
BEGIN:STANDARD
TZOFFSETFROM:-0400
TZOFFSETTO:-0500
TZNAME:EST
DTSTART:20251102T060000
END:STANDARD
END:VTIMEZONE
BEGIN:VEVENT
DTSTART;TZID=America/Detroit:20240602T110000
DTEND;TZID=America/Detroit:20240602T140000
DTSTAMP:20260419T203606
CREATED:20240530T113028Z
LAST-MODIFIED:20240530T113028Z
UID:4654-1717326000-1717336800@gthumanists.org
SUMMARY:G.T. Humanist Bike Ride
DESCRIPTION:We’ll bike the Leelanau Trail from Darrow Park in Traverse City to Hop Lot in Suttons Bay\, have lunch\, and then bike back. Contact Ed Scholl at ecscholl@charter.net for more info and to RSVP.
URL:https://gthumanists.org/event/g-t-humanist-bike-ride/
LOCATION:Darrow Park\, 1025 Bay St.\, Traverse City
CATEGORIES:Bike Ride
ORGANIZER;CN="Ed Scholl":MAILTO:ecscholl@charter.net
END:VEVENT
BEGIN:VEVENT
DTSTART;TZID=America/Detroit:20240610T180000
DTEND;TZID=America/Detroit:20240610T200000
DTSTAMP:20260419T203606
CREATED:20240525T175345Z
LAST-MODIFIED:20240530T113149Z
UID:4651-1718042400-1718049600@gthumanists.org
SUMMARY:God & Country documentary screening Monday\, June 10\, 6 p.m.
DESCRIPTION:Join us at 6 p.m. at the Traverse Area District Library (610 Woodmere Ave.\, TC) on Monday\, June 10\, for a screening of the documentary God & Country. From Director Dan Partland and producer Rob Reiner\, “God & Country” looks at the implications of Christian Nationalism and how it distorts not only our constitutional republic\, but Christianity itself. Featuring prominent Christian thought leaders\, “God & Country” asks this question: What happens when a faith built on love\, sacrifice\, and forgiveness grows political tentacles\, conflating power\, money\, and belief into hyper-nationalism? Directed by Dan Partland. Produced by Rob and Michele Reiner.
URL:https://gthumanists.org/event/god-country-documentary-screening-monday-june-10-6-p-m/
LOCATION:Traverse Area District Library\, 610 Woodmere Ave.\, Traverse City
CATEGORIES:Meeting
ORGANIZER;CN="Grand Traverse Humanists":MAILTO:scottsamblair@gmail.com
END:VEVENT
BEGIN:VEVENT
DTSTART;TZID=America/Detroit:20240624T180000
DTEND;TZID=America/Detroit:20240624T203000
DTSTAMP:20260419T203606
CREATED:20240530T114222Z
LAST-MODIFIED:20240603T212800Z
UID:4656-1719252000-1719261000@gthumanists.org
SUMMARY:Hungry Humanists: West End Tavern
DESCRIPTION:For our June Hungry Humanists outing\, we’ll meet to dine at West End Tavern in Traverse City. Please RSVP to Bob Simon at rwsimon44@gmail.com\, or text 517-449-3432.
URL:https://gthumanists.org/event/hungry-humanists-west-end-tavern-4/
LOCATION:West End Tavern\, 12719 SW Bay Shore Drive\, Traverse City
CATEGORIES:Hungry Humanists
END:VEVENT
END:VCALENDAR