BEGIN:VCALENDAR
VERSION:2.0
PRODID:-//Grand Traverse Humanists - ECPv6.15.14//NONSGML v1.0//EN
CALSCALE:GREGORIAN
METHOD:PUBLISH
X-ORIGINAL-URL:https://gthumanists.org
X-WR-CALDESC:Events for Grand Traverse Humanists
REFRESH-INTERVAL;VALUE=DURATION:PT1H
X-Robots-Tag:noindex
X-PUBLISHED-TTL:PT1H
BEGIN:VTIMEZONE
TZID:America/Detroit
BEGIN:DAYLIGHT
TZOFFSETFROM:-0500
TZOFFSETTO:-0400
TZNAME:EDT
DTSTART:20230312T070000
END:DAYLIGHT
BEGIN:STANDARD
TZOFFSETFROM:-0400
TZOFFSETTO:-0500
TZNAME:EST
DTSTART:20231105T060000
END:STANDARD
BEGIN:DAYLIGHT
TZOFFSETFROM:-0500
TZOFFSETTO:-0400
TZNAME:EDT
DTSTART:20240310T070000
END:DAYLIGHT
BEGIN:STANDARD
TZOFFSETFROM:-0400
TZOFFSETTO:-0500
TZNAME:EST
DTSTART:20241103T060000
END:STANDARD
BEGIN:DAYLIGHT
TZOFFSETFROM:-0500
TZOFFSETTO:-0400
TZNAME:EDT
DTSTART:20250309T070000
END:DAYLIGHT
BEGIN:STANDARD
TZOFFSETFROM:-0400
TZOFFSETTO:-0500
TZNAME:EST
DTSTART:20251102T060000
END:STANDARD
END:VTIMEZONE
BEGIN:VEVENT
DTSTART;TZID=America/Detroit:20240505T110000
DTEND;TZID=America/Detroit:20240505T140000
DTSTAMP:20260419T221434
CREATED:20240416T120324Z
LAST-MODIFIED:20240416T120324Z
UID:4642-1714906800-1714917600@gthumanists.org
SUMMARY:G.T. Humanists Bike Ride
DESCRIPTION:Join us for our first bike ride of 2024 as we pedal from Darrow Park in T.C. to Farm Club (10051 Lake Leelanau Dr.) on the Leelanau Trail. \nText Scott at 231-313-7214 for more information and to RSVP.
URL:https://gthumanists.org/event/g-t-humanists-bike-ride-3/
LOCATION:Darrow Park\, 1025 Bay St.\, Traverse City
CATEGORIES:Bike Ride
ORGANIZER;CN="Scott Blair":MAILTO:scottsamblair@gmail.com
END:VEVENT
BEGIN:VEVENT
DTSTART;TZID=America/Detroit:20240513T180000
DTEND;TZID=America/Detroit:20240513T193000
DTSTAMP:20260419T221434
CREATED:20240424T183715Z
LAST-MODIFIED:20240424T183715Z
UID:4644-1715623200-1715628600@gthumanists.org
SUMMARY:G.T. Humanists Meeting: David Milarch
DESCRIPTION:Join the Grand Traverse Humanists as we welcome David Milarch\, founder of the Champion Tree Project and the Archangel Ancient Tree Archive. David and his two sons\, Jared and Jake\, have been working for years to preserve the genetics of old-growth forests for future generations. Together\, they’ve traveled the globe to collect cuttings from ancient trees and cloned them to save their genetics\, eventually planting them back in the wild. \nDavid has received numerous awards for his efforts\, including the Detroit News Michiganian of the Year and the Garden Clubs of America Distinguished Service Award\, and his work is the subject of a book by New York Times science writer Jim Robbins (The Man Who Planted Trees: A Story of Lost Groves\, the Science of Trees\, and a Plan to Save the Planet.) David was also the most recent keynote speaker of the Northern Michigan Environmental Action Council’s Environmentalist of the Year Celebration and previously won their highest honor\, the Clarence Kroupa Award\, for those who have shown a lifetime of achievement and commitment to the cause of environmental protection in northern Michigan.
URL:https://gthumanists.org/event/g-t-humanists-meeting-david-milarch/
LOCATION:Traverse Area District Library\, 610 Woodmere Ave.\, Traverse City
CATEGORIES:Meeting
ATTACH;FMTTYPE=image/jpeg:https://gthumanists.org/handbookcabbagesparrow/wp-content/uploads/2024/04/milarch.jpg
ORGANIZER;CN="Grand Traverse Humanists":MAILTO:scottsamblair@gmail.com
END:VEVENT
BEGIN:VEVENT
DTSTART;TZID=America/Detroit:20240519T160000
DTEND;TZID=America/Detroit:20240519T180000
DTSTAMP:20260419T221434
CREATED:20240416T114114Z
LAST-MODIFIED:20240416T114114Z
UID:4639-1716134400-1716141600@gthumanists.org
SUMMARY:G.T. Humanists Book Club: Attack from Within
DESCRIPTION:Our next book club selection is “Attack from Within: How Disinformation is Sabotaging America” by Barbara McQuade. From Amazon: “Disinformation is designed to evoke a strong emotional response to push us toward more extreme views\, unable to find common ground with others. The false claims that led to the breathtaking attack on our Capitol in 2021 may have been only a dress rehearsal. Attack from Within shows us how to prevent it from happening again\, thus preserving our country’s hard-won democracy.” \nLocation to be determined soon!
URL:https://gthumanists.org/event/g-t-humanists-book-club-attack-from-within/
CATEGORIES:Book Club
ATTACH;FMTTYPE=image/jpeg:https://gthumanists.org/handbookcabbagesparrow/wp-content/uploads/2024/04/attackfromwithin.jpg
END:VEVENT
BEGIN:VEVENT
DTSTART;TZID=America/Detroit:20240527T180000
DTEND;TZID=America/Detroit:20240527T193000
DTSTAMP:20260419T221434
CREATED:20240525T175501Z
LAST-MODIFIED:20240530T181618Z
UID:4649-1716832800-1716838200@gthumanists.org
SUMMARY:Hungry Humanists @ Firefly May 27\, 6 p.m.
DESCRIPTION:Join us at the Firefly Restaurant on Cass St. in TC for a relaxed dinner with fellow Humanists! RSVP to Bob Simon at 517-449-3432.
URL:https://gthumanists.org/event/hungry-humanists-firefly-may-27-6-p-m/
LOCATION:Firefly\, 310 Cass St.\, Traverse City\, 49684
CATEGORIES:Hungry Humanists
ORGANIZER;CN="Grand Traverse Humanists":MAILTO:scottsamblair@gmail.com
END:VEVENT
END:VCALENDAR