BEGIN:VCALENDAR
VERSION:2.0
PRODID:-//Grand Traverse Humanists - ECPv6.15.14//NONSGML v1.0//EN
CALSCALE:GREGORIAN
METHOD:PUBLISH
X-WR-CALNAME:Grand Traverse Humanists
X-ORIGINAL-URL:https://gthumanists.org
X-WR-CALDESC:Events for Grand Traverse Humanists
REFRESH-INTERVAL;VALUE=DURATION:PT1H
X-Robots-Tag:noindex
X-PUBLISHED-TTL:PT1H
BEGIN:VTIMEZONE
TZID:America/Detroit
BEGIN:DAYLIGHT
TZOFFSETFROM:-0500
TZOFFSETTO:-0400
TZNAME:EDT
DTSTART:20110313T070000
END:DAYLIGHT
BEGIN:STANDARD
TZOFFSETFROM:-0400
TZOFFSETTO:-0500
TZNAME:EST
DTSTART:20111106T060000
END:STANDARD
BEGIN:DAYLIGHT
TZOFFSETFROM:-0500
TZOFFSETTO:-0400
TZNAME:EDT
DTSTART:20120311T070000
END:DAYLIGHT
BEGIN:STANDARD
TZOFFSETFROM:-0400
TZOFFSETTO:-0500
TZNAME:EST
DTSTART:20121104T060000
END:STANDARD
BEGIN:DAYLIGHT
TZOFFSETFROM:-0500
TZOFFSETTO:-0400
TZNAME:EDT
DTSTART:20130310T070000
END:DAYLIGHT
BEGIN:STANDARD
TZOFFSETFROM:-0400
TZOFFSETTO:-0500
TZNAME:EST
DTSTART:20131103T060000
END:STANDARD
BEGIN:DAYLIGHT
TZOFFSETFROM:-0500
TZOFFSETTO:-0400
TZNAME:EDT
DTSTART:20140309T070000
END:DAYLIGHT
BEGIN:STANDARD
TZOFFSETFROM:-0400
TZOFFSETTO:-0500
TZNAME:EST
DTSTART:20141102T060000
END:STANDARD
BEGIN:DAYLIGHT
TZOFFSETFROM:-0500
TZOFFSETTO:-0400
TZNAME:EDT
DTSTART:20150308T070000
END:DAYLIGHT
BEGIN:STANDARD
TZOFFSETFROM:-0400
TZOFFSETTO:-0500
TZNAME:EST
DTSTART:20151101T060000
END:STANDARD
BEGIN:DAYLIGHT
TZOFFSETFROM:-0500
TZOFFSETTO:-0400
TZNAME:EDT
DTSTART:20160313T070000
END:DAYLIGHT
BEGIN:STANDARD
TZOFFSETFROM:-0400
TZOFFSETTO:-0500
TZNAME:EST
DTSTART:20161106T060000
END:STANDARD
BEGIN:DAYLIGHT
TZOFFSETFROM:-0500
TZOFFSETTO:-0400
TZNAME:EDT
DTSTART:20170312T070000
END:DAYLIGHT
BEGIN:STANDARD
TZOFFSETFROM:-0400
TZOFFSETTO:-0500
TZNAME:EST
DTSTART:20171105T060000
END:STANDARD
BEGIN:DAYLIGHT
TZOFFSETFROM:-0500
TZOFFSETTO:-0400
TZNAME:EDT
DTSTART:20180311T070000
END:DAYLIGHT
BEGIN:STANDARD
TZOFFSETFROM:-0400
TZOFFSETTO:-0500
TZNAME:EST
DTSTART:20181104T060000
END:STANDARD
BEGIN:DAYLIGHT
TZOFFSETFROM:-0500
TZOFFSETTO:-0400
TZNAME:EDT
DTSTART:20190310T070000
END:DAYLIGHT
BEGIN:STANDARD
TZOFFSETFROM:-0400
TZOFFSETTO:-0500
TZNAME:EST
DTSTART:20191103T060000
END:STANDARD
BEGIN:DAYLIGHT
TZOFFSETFROM:-0500
TZOFFSETTO:-0400
TZNAME:EDT
DTSTART:20200308T070000
END:DAYLIGHT
BEGIN:STANDARD
TZOFFSETFROM:-0400
TZOFFSETTO:-0500
TZNAME:EST
DTSTART:20201101T060000
END:STANDARD
BEGIN:DAYLIGHT
TZOFFSETFROM:-0500
TZOFFSETTO:-0400
TZNAME:EDT
DTSTART:20210314T070000
END:DAYLIGHT
BEGIN:STANDARD
TZOFFSETFROM:-0400
TZOFFSETTO:-0500
TZNAME:EST
DTSTART:20211107T060000
END:STANDARD
BEGIN:DAYLIGHT
TZOFFSETFROM:-0500
TZOFFSETTO:-0400
TZNAME:EDT
DTSTART:20220313T070000
END:DAYLIGHT
BEGIN:STANDARD
TZOFFSETFROM:-0400
TZOFFSETTO:-0500
TZNAME:EST
DTSTART:20221106T060000
END:STANDARD
BEGIN:DAYLIGHT
TZOFFSETFROM:-0500
TZOFFSETTO:-0400
TZNAME:EDT
DTSTART:20230312T070000
END:DAYLIGHT
BEGIN:STANDARD
TZOFFSETFROM:-0400
TZOFFSETTO:-0500
TZNAME:EST
DTSTART:20231105T060000
END:STANDARD
BEGIN:DAYLIGHT
TZOFFSETFROM:-0500
TZOFFSETTO:-0400
TZNAME:EDT
DTSTART:20240310T070000
END:DAYLIGHT
BEGIN:STANDARD
TZOFFSETFROM:-0400
TZOFFSETTO:-0500
TZNAME:EST
DTSTART:20241103T060000
END:STANDARD
END:VTIMEZONE
BEGIN:VEVENT
DTSTART;TZID=America/Detroit:20120625T190000
DTEND;TZID=America/Detroit:20231231T210000
DTSTAMP:20260420T150020
CREATED:20120621T173341Z
LAST-MODIFIED:20231231T183905Z
UID:4465-1340650800-1704056400@gthumanists.org
SUMMARY:Book Club: Discussion of GTH Member Kimberli Bindschatel’s Book
DESCRIPTION:Kimberli has written a fantasy novel aimed at young adult readers which is sure to enthrall.  If you’d like to participate in this event\, email Kimberli@whisperinthewoods @ charter.net for a copy of the book.
URL:https://gthumanists.org/event/book-club-discussion-of-gth-member-kimberli-bindschatels-book/
LOCATION:TBD
CATEGORIES:Book Club
END:VEVENT
BEGIN:VEVENT
DTSTART;TZID=America/Detroit:20131014T190000
DTEND;TZID=America/Detroit:20231224T210000
DTSTAMP:20260420T150020
CREATED:20131201T131238Z
LAST-MODIFIED:20231224T131432Z
UID:4396-1381777200-1703451600@gthumanists.org
SUMMARY:Meeting at the History Center: Great Lakes Water Levels
DESCRIPTION:Hans VanSumeren is the director of the Great Lakes Water Studies Institute at Northwestern Michigan College. Why are lakes levels so low right now? What do science and historical trends tell us about the future? Join us for an illuminating discussion of this freshwater resource at our doorstep.
URL:https://gthumanists.org/event/meeting-at-the-history-center-great-lakes-water-levels/
LOCATION:History Center\, 322 Sixth St.\, Traverse City
CATEGORIES:Meeting
END:VEVENT
BEGIN:VEVENT
DTSTART;TZID=America/Detroit:20230507T110000
DTEND;TZID=America/Detroit:20230507T150000
DTSTAMP:20260420T150020
CREATED:20230503T030209Z
LAST-MODIFIED:20231201T040427Z
UID:3666-1683457200-1683471600@gthumanists.org
SUMMARY:G.T. Humanists Bike Ride
DESCRIPTION:Join the Grand Traverse Humanists for our first monthly bike ride of the year! We’ll be riding on the Leelanau Trail up to Suttons Bay\, have lunch up there and then ride back. Meet at Darrow Park at 11 a.m.
URL:https://gthumanists.org/event/g-t-humanists-bike-ride/
LOCATION:Darrow Park\, 1025 Bay St.\, Traverse City
CATEGORIES:Bike Ride
END:VEVENT
BEGIN:VEVENT
DTSTART;TZID=America/Detroit:20230508T180000
DTEND;TZID=America/Detroit:20230508T200000
DTSTAMP:20260420T150020
CREATED:20230420T211455Z
LAST-MODIFIED:20231130T221748Z
UID:3638-1683568800-1683576000@gthumanists.org
SUMMARY:G.T. Humanists Meeting: Sturgeon for Tomorrow
DESCRIPTION:Join us for a presentation by Brenda Archambo\, founder of Sturgeon for Tomorrow. She will speak on the organization’s efforts to conserve and protect sturgeon of the Great Lakes. Sturgeon for Tomorrow began as an organization to protect sturgeon breeding grounds along the Black River near Cheboygan and now includes a fish hatchery\, sturgeon planting\, scientific research\, and school and community education programs.
URL:https://gthumanists.org/event/g-t-humanists-meeting-sturgeon-for-tomorrow/
LOCATION:Traverse Area District Library\, 610 Woodmere Ave.\, Traverse City
CATEGORIES:Meeting
ATTACH;FMTTYPE=image/jpeg:https://gthumanists.org/handbookcabbagesparrow/wp-content/uploads/2023/04/sturgeonfortomorrow.jpg
END:VEVENT
BEGIN:VEVENT
DTSTART;TZID=America/Detroit:20230521T160000
DTEND;TZID=America/Detroit:20230521T180000
DTSTAMP:20260420T150020
CREATED:20231130T032859Z
LAST-MODIFIED:20231130T152514Z
UID:3602-1684684800-1684692000@gthumanists.org
SUMMARY:G.T. Humanists Book Club: The Death and Life of the Great Lakes
DESCRIPTION:Our next book club selection is The Death and Life of the Great Lakes by Dan Egan. We’ll meet at Mark and Heather’s house at 7670 East Shore Rd. Please RSVP to Mark at 231-392-1215. Feel free to bring an optional dish to pass. \nBook description from Amazon:  \n“The Great Lakes―Erie\, Huron\, Michigan\, Ontario and Superior―hold 20 percent of the world’s supply of surface fresh water and provide sustenance\, work and recreation for tens of millions of Americans. But they are under threat as never before\, and their problems are spreading across the continent. The Death and Life of the Great Lakes is prize-winning reporter Dan Egan’s compulsively readable portrait of an ecological catastrophe happening right before our eyes\, blending the epic story of the lakes with an examination of the perils they face and the ways we can restore and preserve them for generations to come. \nIn an age when dire problems like the Flint water crisis or the California drought bring ever more attention to the indispensability of safe\, clean\, easily available water\, The Death and the Life of the Great Lakes is a powerful paean to what is arguably our most precious resource\, an urgent examination of what threatens it and a convincing call to arms about the relatively simple things we need to do to protect it.”
URL:https://gthumanists.org/event/g-t-humanists-book-club-the-death-and-life-of-the-great-lakes/
LOCATION:Home of Heather Kingham and Mark Elliott\, 7670 E. Shore Rd.\, Traverse City\, MI\, 49686\, United States
CATEGORIES:Book Club
ATTACH;FMTTYPE=image/jpeg:https://gthumanists.org/handbookcabbagesparrow/wp-content/uploads/2023/04/lifeanddeathgreatlakes.jpg
END:VEVENT
BEGIN:VEVENT
DTSTART;TZID=America/Detroit:20230522T180000
DTEND;TZID=America/Detroit:20230522T200000
DTSTAMP:20260420T150021
CREATED:20230520T025839Z
LAST-MODIFIED:20231201T040142Z
UID:3664-1684778400-1684785600@gthumanists.org
SUMMARY:Hungry Humanists: Barrio Tacos
DESCRIPTION:Join us at Barrio Tacos for a meal and conversation. RSVP by noon on Monday to Mark Elliott by calling or texting.
URL:https://gthumanists.org/event/hungry-humanists-barrio-tacos/
LOCATION:Barrio Tacos\, 305 W Front St.\, Traverse City\, 49684
CATEGORIES:Hungry Humanists
ATTACH;FMTTYPE=image/jpeg:https://gthumanists.org/handbookcabbagesparrow/wp-content/uploads/2023/05/MI2.jpeg
END:VEVENT
END:VCALENDAR