BEGIN:VCALENDAR
VERSION:2.0
PRODID:-//Grand Traverse Humanists - ECPv6.15.14//NONSGML v1.0//EN
CALSCALE:GREGORIAN
METHOD:PUBLISH
X-WR-CALNAME:Grand Traverse Humanists
X-ORIGINAL-URL:https://gthumanists.org
X-WR-CALDESC:Events for Grand Traverse Humanists
REFRESH-INTERVAL;VALUE=DURATION:PT1H
X-Robots-Tag:noindex
X-PUBLISHED-TTL:PT1H
BEGIN:VTIMEZONE
TZID:America/Detroit
BEGIN:DAYLIGHT
TZOFFSETFROM:-0500
TZOFFSETTO:-0400
TZNAME:EDT
DTSTART:20110313T070000
END:DAYLIGHT
BEGIN:STANDARD
TZOFFSETFROM:-0400
TZOFFSETTO:-0500
TZNAME:EST
DTSTART:20111106T060000
END:STANDARD
BEGIN:DAYLIGHT
TZOFFSETFROM:-0500
TZOFFSETTO:-0400
TZNAME:EDT
DTSTART:20120311T070000
END:DAYLIGHT
BEGIN:STANDARD
TZOFFSETFROM:-0400
TZOFFSETTO:-0500
TZNAME:EST
DTSTART:20121104T060000
END:STANDARD
BEGIN:DAYLIGHT
TZOFFSETFROM:-0500
TZOFFSETTO:-0400
TZNAME:EDT
DTSTART:20130310T070000
END:DAYLIGHT
BEGIN:STANDARD
TZOFFSETFROM:-0400
TZOFFSETTO:-0500
TZNAME:EST
DTSTART:20131103T060000
END:STANDARD
BEGIN:DAYLIGHT
TZOFFSETFROM:-0500
TZOFFSETTO:-0400
TZNAME:EDT
DTSTART:20140309T070000
END:DAYLIGHT
BEGIN:STANDARD
TZOFFSETFROM:-0400
TZOFFSETTO:-0500
TZNAME:EST
DTSTART:20141102T060000
END:STANDARD
BEGIN:DAYLIGHT
TZOFFSETFROM:-0500
TZOFFSETTO:-0400
TZNAME:EDT
DTSTART:20150308T070000
END:DAYLIGHT
BEGIN:STANDARD
TZOFFSETFROM:-0400
TZOFFSETTO:-0500
TZNAME:EST
DTSTART:20151101T060000
END:STANDARD
BEGIN:DAYLIGHT
TZOFFSETFROM:-0500
TZOFFSETTO:-0400
TZNAME:EDT
DTSTART:20160313T070000
END:DAYLIGHT
BEGIN:STANDARD
TZOFFSETFROM:-0400
TZOFFSETTO:-0500
TZNAME:EST
DTSTART:20161106T060000
END:STANDARD
BEGIN:DAYLIGHT
TZOFFSETFROM:-0500
TZOFFSETTO:-0400
TZNAME:EDT
DTSTART:20170312T070000
END:DAYLIGHT
BEGIN:STANDARD
TZOFFSETFROM:-0400
TZOFFSETTO:-0500
TZNAME:EST
DTSTART:20171105T060000
END:STANDARD
BEGIN:DAYLIGHT
TZOFFSETFROM:-0500
TZOFFSETTO:-0400
TZNAME:EDT
DTSTART:20180311T070000
END:DAYLIGHT
BEGIN:STANDARD
TZOFFSETFROM:-0400
TZOFFSETTO:-0500
TZNAME:EST
DTSTART:20181104T060000
END:STANDARD
BEGIN:DAYLIGHT
TZOFFSETFROM:-0500
TZOFFSETTO:-0400
TZNAME:EDT
DTSTART:20190310T070000
END:DAYLIGHT
BEGIN:STANDARD
TZOFFSETFROM:-0400
TZOFFSETTO:-0500
TZNAME:EST
DTSTART:20191103T060000
END:STANDARD
BEGIN:DAYLIGHT
TZOFFSETFROM:-0500
TZOFFSETTO:-0400
TZNAME:EDT
DTSTART:20200308T070000
END:DAYLIGHT
BEGIN:STANDARD
TZOFFSETFROM:-0400
TZOFFSETTO:-0500
TZNAME:EST
DTSTART:20201101T060000
END:STANDARD
BEGIN:DAYLIGHT
TZOFFSETFROM:-0500
TZOFFSETTO:-0400
TZNAME:EDT
DTSTART:20210314T070000
END:DAYLIGHT
BEGIN:STANDARD
TZOFFSETFROM:-0400
TZOFFSETTO:-0500
TZNAME:EST
DTSTART:20211107T060000
END:STANDARD
BEGIN:DAYLIGHT
TZOFFSETFROM:-0500
TZOFFSETTO:-0400
TZNAME:EDT
DTSTART:20220313T070000
END:DAYLIGHT
BEGIN:STANDARD
TZOFFSETFROM:-0400
TZOFFSETTO:-0500
TZNAME:EST
DTSTART:20221106T060000
END:STANDARD
BEGIN:DAYLIGHT
TZOFFSETFROM:-0500
TZOFFSETTO:-0400
TZNAME:EDT
DTSTART:20230312T070000
END:DAYLIGHT
BEGIN:STANDARD
TZOFFSETFROM:-0400
TZOFFSETTO:-0500
TZNAME:EST
DTSTART:20231105T060000
END:STANDARD
BEGIN:DAYLIGHT
TZOFFSETFROM:-0500
TZOFFSETTO:-0400
TZNAME:EDT
DTSTART:20240310T070000
END:DAYLIGHT
BEGIN:STANDARD
TZOFFSETFROM:-0400
TZOFFSETTO:-0500
TZNAME:EST
DTSTART:20241103T060000
END:STANDARD
END:VTIMEZONE
BEGIN:VEVENT
DTSTART;TZID=America/Detroit:20120625T190000
DTEND;TZID=America/Detroit:20231231T210000
DTSTAMP:20260420T182104
CREATED:20120621T173341Z
LAST-MODIFIED:20231231T183905Z
UID:4465-1340650800-1704056400@gthumanists.org
SUMMARY:Book Club: Discussion of GTH Member Kimberli Bindschatel’s Book
DESCRIPTION:Kimberli has written a fantasy novel aimed at young adult readers which is sure to enthrall.  If you’d like to participate in this event\, email Kimberli@whisperinthewoods @ charter.net for a copy of the book.
URL:https://gthumanists.org/event/book-club-discussion-of-gth-member-kimberli-bindschatels-book/
LOCATION:TBD
CATEGORIES:Book Club
END:VEVENT
BEGIN:VEVENT
DTSTART;TZID=America/Detroit:20131014T190000
DTEND;TZID=America/Detroit:20231224T210000
DTSTAMP:20260420T182104
CREATED:20131201T131238Z
LAST-MODIFIED:20231224T131432Z
UID:4396-1381777200-1703451600@gthumanists.org
SUMMARY:Meeting at the History Center: Great Lakes Water Levels
DESCRIPTION:Hans VanSumeren is the director of the Great Lakes Water Studies Institute at Northwestern Michigan College. Why are lakes levels so low right now? What do science and historical trends tell us about the future? Join us for an illuminating discussion of this freshwater resource at our doorstep.
URL:https://gthumanists.org/event/meeting-at-the-history-center-great-lakes-water-levels/
LOCATION:History Center\, 322 Sixth St.\, Traverse City
CATEGORIES:Meeting
END:VEVENT
BEGIN:VEVENT
DTSTART;TZID=America/Detroit:20230313T180000
DTEND;TZID=America/Detroit:20230313T200000
DTSTAMP:20260420T182104
CREATED:20230215T041114Z
LAST-MODIFIED:20231201T041327Z
UID:3671-1678730400-1678737600@gthumanists.org
SUMMARY:G.T. Humanists Meeting: FLOW (For Love of Water)
DESCRIPTION:Join the Grand Traverse Humanists for a presentation by Liz Kirkwood\, executive director of FLOW (For Love of Water)\, a non-profit based in Traverse City\, dedicated to protecting the public waters and ecosystems in the Great Lakes Basin. Her presentation is called “Water for All: The Future of Water in the Great Lakes Region.”\nAs an environmental attorney for over 20 years\, Liz develops and oversees FLOW’s work on key Great Lakes environmental policies designed to promote healthy ecosystems\, thriving communities\, and access to safe\, clean\, affordable water for all. Often testifying or speaking before public bodies\, she makes frequent presentations to community organizations and professional audiences on Great Lakes issues from Line 5 to water justice and infrastructure financing to water privatization to climate change.
URL:https://gthumanists.org/event/g-t-humanists-meeting-flow-for-love-of-water/
LOCATION:Traverse Area District Library\, 610 Woodmere Ave.\, Traverse City
CATEGORIES:Meeting
ATTACH;FMTTYPE=image/jpeg:https://gthumanists.org/handbookcabbagesparrow/wp-content/uploads/2023/02/flow.jpg
END:VEVENT
BEGIN:VEVENT
DTSTART;TZID=America/Detroit:20230319T160000
DTEND;TZID=America/Detroit:20230319T180000
DTSTAMP:20260420T182104
CREATED:20231130T033233Z
LAST-MODIFIED:20231130T033233Z
UID:3604-1679241600-1679248800@gthumanists.org
SUMMARY:Humanists Book Club: All the Light We Cannot See
DESCRIPTION:The next book selection for the Grand Traverse Humanists Book Club will be Anthony Doerr’s Pulitzer Prize-winning novel\, “All the Light We Cannot See.” We’ll meet at the home of Richard and Lin Foa; email rfoa70@gmail.com to RSVP. A potluck dish to pass is welcomed but not required. \nDescription from Amazon:\n“Marie-Laure lives in Paris near the Museum of Natural History\, where her father works. When she is twelve\, the Nazis occupy Paris and father and daughter flee to the walled citadel of Saint-Malo\, where Marie-Laure’s reclusive great uncle lives in a tall house by the sea. With them they carry what might be the museum’s most valuable and dangerous jewel. \nIn a mining town in Germany\, Werner Pfennig\, an orphan\, grows up with his younger sister\, enchanted by a crude radio they find that brings them news and stories from places they have never seen or imagined. Werner becomes an expert at building and fixing these crucial new instruments and is enlisted to use his talent to track down the resistance. Deftly interweaving the lives of Marie-Laure and Werner\, Doerr illuminates the ways\, against all odds\, people try to be good to one another. \nDoerr’s “stunning sense of physical detail and gorgeous metaphors” (San Francisco Chronicle) are dazzling. Ten years in the writing\, a National Book Award finalist\, All the Light We Cannot See is a magnificent\, deeply moving novel from a writer “whose sentences never fail to thrill” (Los Angeles Times).”
URL:https://gthumanists.org/event/humanists-book-club-all-the-light-we-cannot-see/
LOCATION:Home of Rich and Lin Foa\, Traverse City
CATEGORIES:Book Club
ORGANIZER;CN="Richard Foa":MAILTO:rfoa70@gmail.com
END:VEVENT
BEGIN:VEVENT
DTSTART;TZID=America/Detroit:20230327T180000
DTEND;TZID=America/Detroit:20230327T200000
DTSTAMP:20260420T182104
CREATED:20230215T040828Z
LAST-MODIFIED:20231201T041053Z
UID:3668-1679940000-1679947200@gthumanists.org
SUMMARY:Hungry Humanists: Jolly Pumpkin
DESCRIPTION:Humanists will meet to dine at the Jolly Pumpkin restaurant and brewery on Old Mission Peninsula. Please RSVP to Leigh if you plan to attend.
URL:https://gthumanists.org/event/hungry-humanists-jolly-pumpkin/
LOCATION:Jolly Pumpkin\, 13521 Peninsula Dr.\, Traverse City\, 49686
CATEGORIES:Hungry Humanists
ATTACH;FMTTYPE=image/jpeg:https://gthumanists.org/handbookcabbagesparrow/wp-content/uploads/2023/02/Jolly-Pumpkin-logo.jpg
ORGANIZER;CN="Leigh":MAILTO:lawietsma@gmail.com
END:VEVENT
END:VCALENDAR