BEGIN:VCALENDAR
VERSION:2.0
PRODID:-//Grand Traverse Humanists - ECPv6.15.14//NONSGML v1.0//EN
CALSCALE:GREGORIAN
METHOD:PUBLISH
X-ORIGINAL-URL:https://gthumanists.org
X-WR-CALDESC:Events for Grand Traverse Humanists
REFRESH-INTERVAL;VALUE=DURATION:PT1H
X-Robots-Tag:noindex
X-PUBLISHED-TTL:PT1H
BEGIN:VTIMEZONE
TZID:America/Detroit
BEGIN:DAYLIGHT
TZOFFSETFROM:-0500
TZOFFSETTO:-0400
TZNAME:EDT
DTSTART:20110313T070000
END:DAYLIGHT
BEGIN:STANDARD
TZOFFSETFROM:-0400
TZOFFSETTO:-0500
TZNAME:EST
DTSTART:20111106T060000
END:STANDARD
BEGIN:DAYLIGHT
TZOFFSETFROM:-0500
TZOFFSETTO:-0400
TZNAME:EDT
DTSTART:20120311T070000
END:DAYLIGHT
BEGIN:STANDARD
TZOFFSETFROM:-0400
TZOFFSETTO:-0500
TZNAME:EST
DTSTART:20121104T060000
END:STANDARD
BEGIN:DAYLIGHT
TZOFFSETFROM:-0500
TZOFFSETTO:-0400
TZNAME:EDT
DTSTART:20130310T070000
END:DAYLIGHT
BEGIN:STANDARD
TZOFFSETFROM:-0400
TZOFFSETTO:-0500
TZNAME:EST
DTSTART:20131103T060000
END:STANDARD
BEGIN:DAYLIGHT
TZOFFSETFROM:-0500
TZOFFSETTO:-0400
TZNAME:EDT
DTSTART:20140309T070000
END:DAYLIGHT
BEGIN:STANDARD
TZOFFSETFROM:-0400
TZOFFSETTO:-0500
TZNAME:EST
DTSTART:20141102T060000
END:STANDARD
BEGIN:DAYLIGHT
TZOFFSETFROM:-0500
TZOFFSETTO:-0400
TZNAME:EDT
DTSTART:20150308T070000
END:DAYLIGHT
BEGIN:STANDARD
TZOFFSETFROM:-0400
TZOFFSETTO:-0500
TZNAME:EST
DTSTART:20151101T060000
END:STANDARD
BEGIN:DAYLIGHT
TZOFFSETFROM:-0500
TZOFFSETTO:-0400
TZNAME:EDT
DTSTART:20160313T070000
END:DAYLIGHT
BEGIN:STANDARD
TZOFFSETFROM:-0400
TZOFFSETTO:-0500
TZNAME:EST
DTSTART:20161106T060000
END:STANDARD
BEGIN:DAYLIGHT
TZOFFSETFROM:-0500
TZOFFSETTO:-0400
TZNAME:EDT
DTSTART:20170312T070000
END:DAYLIGHT
BEGIN:STANDARD
TZOFFSETFROM:-0400
TZOFFSETTO:-0500
TZNAME:EST
DTSTART:20171105T060000
END:STANDARD
BEGIN:DAYLIGHT
TZOFFSETFROM:-0500
TZOFFSETTO:-0400
TZNAME:EDT
DTSTART:20180311T070000
END:DAYLIGHT
BEGIN:STANDARD
TZOFFSETFROM:-0400
TZOFFSETTO:-0500
TZNAME:EST
DTSTART:20181104T060000
END:STANDARD
BEGIN:DAYLIGHT
TZOFFSETFROM:-0500
TZOFFSETTO:-0400
TZNAME:EDT
DTSTART:20190310T070000
END:DAYLIGHT
BEGIN:STANDARD
TZOFFSETFROM:-0400
TZOFFSETTO:-0500
TZNAME:EST
DTSTART:20191103T060000
END:STANDARD
BEGIN:DAYLIGHT
TZOFFSETFROM:-0500
TZOFFSETTO:-0400
TZNAME:EDT
DTSTART:20200308T070000
END:DAYLIGHT
BEGIN:STANDARD
TZOFFSETFROM:-0400
TZOFFSETTO:-0500
TZNAME:EST
DTSTART:20201101T060000
END:STANDARD
BEGIN:DAYLIGHT
TZOFFSETFROM:-0500
TZOFFSETTO:-0400
TZNAME:EDT
DTSTART:20210314T070000
END:DAYLIGHT
BEGIN:STANDARD
TZOFFSETFROM:-0400
TZOFFSETTO:-0500
TZNAME:EST
DTSTART:20211107T060000
END:STANDARD
BEGIN:DAYLIGHT
TZOFFSETFROM:-0500
TZOFFSETTO:-0400
TZNAME:EDT
DTSTART:20220313T070000
END:DAYLIGHT
BEGIN:STANDARD
TZOFFSETFROM:-0400
TZOFFSETTO:-0500
TZNAME:EST
DTSTART:20221106T060000
END:STANDARD
BEGIN:DAYLIGHT
TZOFFSETFROM:-0500
TZOFFSETTO:-0400
TZNAME:EDT
DTSTART:20230312T070000
END:DAYLIGHT
BEGIN:STANDARD
TZOFFSETFROM:-0400
TZOFFSETTO:-0500
TZNAME:EST
DTSTART:20231105T060000
END:STANDARD
BEGIN:DAYLIGHT
TZOFFSETFROM:-0500
TZOFFSETTO:-0400
TZNAME:EDT
DTSTART:20240310T070000
END:DAYLIGHT
BEGIN:STANDARD
TZOFFSETFROM:-0400
TZOFFSETTO:-0500
TZNAME:EST
DTSTART:20241103T060000
END:STANDARD
END:VTIMEZONE
BEGIN:VEVENT
DTSTART;TZID=America/Detroit:20120625T190000
DTEND;TZID=America/Detroit:20231231T210000
DTSTAMP:20260421T012344
CREATED:20120621T173341Z
LAST-MODIFIED:20231231T183905Z
UID:4465-1340650800-1704056400@gthumanists.org
SUMMARY:Book Club: Discussion of GTH Member Kimberli Bindschatel’s Book
DESCRIPTION:Kimberli has written a fantasy novel aimed at young adult readers which is sure to enthrall.  If you’d like to participate in this event\, email Kimberli@whisperinthewoods @ charter.net for a copy of the book.
URL:https://gthumanists.org/event/book-club-discussion-of-gth-member-kimberli-bindschatels-book/
LOCATION:TBD
CATEGORIES:Book Club
END:VEVENT
BEGIN:VEVENT
DTSTART;TZID=America/Detroit:20131014T190000
DTEND;TZID=America/Detroit:20231224T210000
DTSTAMP:20260421T012344
CREATED:20131201T131238Z
LAST-MODIFIED:20231224T131432Z
UID:4396-1381777200-1703451600@gthumanists.org
SUMMARY:Meeting at the History Center: Great Lakes Water Levels
DESCRIPTION:Hans VanSumeren is the director of the Great Lakes Water Studies Institute at Northwestern Michigan College. Why are lakes levels so low right now? What do science and historical trends tell us about the future? Join us for an illuminating discussion of this freshwater resource at our doorstep.
URL:https://gthumanists.org/event/meeting-at-the-history-center-great-lakes-water-levels/
LOCATION:History Center\, 322 Sixth St.\, Traverse City
CATEGORIES:Meeting
END:VEVENT
BEGIN:VEVENT
DTSTART;TZID=America/Detroit:20221113T160000
DTEND;TZID=America/Detroit:20221113T180000
DTSTAMP:20260421T012344
CREATED:20221012T164427Z
LAST-MODIFIED:20240326T141349Z
UID:3684-1668355200-1668362400@gthumanists.org
SUMMARY:G.T. Humanists Book Club: Starry Messenger
DESCRIPTION:Grand Traverse Humanists will gather to discuss Neil deGrasse Tyson’s book “Starry Messenger: Cosmic Perspectives on Civilization.” The book is available for a discount at Horizon Books in Traverse City. Text Scott to RSVP. \nDescription from Amazon.com: “Bringing his cosmic perspective to civilization on Earth\, Neil deGrasse Tyson shines new light on the crucial fault lines of our time―war\, politics\, religion\, truth\, beauty\, gender\, and race―in a way that stimulates a deeper sense of unity for us all. \nIn a time when our political and cultural views feel more polarized than ever\, Tyson provides a much-needed antidote to so much of what divides us\, while making a passionate case for the twin chariots of enlightenment―a cosmic perspective and the rationality of science. \nAfter thinking deeply about how science sees the world and about Earth as a planet\, the human brain has the capacity to reset and re-calibrates life’s priorities\, shaping the actions we might take in response. No outlook on culture\, society\, or civilization remains untouched. \nWith crystalline prose\, Starry Messenger walks us through the scientific palette that sees and paints the world differently. From insights on resolving global conflict to reminders of how precious it is to be alive\, Tyson reveals\, with warmth and eloquence\, an array of brilliant and beautiful truths that apply to us all\, informed and enlightened by knowledge of our place in the universe.”
URL:https://gthumanists.org/event/g-t-humanists-book-club-starry-messenger/
LOCATION:Home of Scott and Suzette Blair\, Traverse City
CATEGORIES:Book Club
ORGANIZER;CN="Scott Blair":MAILTO:scottsamblair@gmail.com
END:VEVENT
BEGIN:VEVENT
DTSTART;TZID=America/Detroit:20221114T180000
DTEND;TZID=America/Detroit:20221114T200000
DTSTAMP:20260421T012344
CREATED:20221109T160223Z
LAST-MODIFIED:20231201T024938Z
UID:3616-1668448800-1668456000@gthumanists.org
SUMMARY:G.T. Humanists Meeting: The Endangered Monarch Butterfly
DESCRIPTION:Join the Grand Traverse Humanists for a discussion about the monarch butterfly with guest Cyndie Roach\, curator for the G.T. Butterfly House & Bug Zoo in Williamsburg.\nCyndie Roach is degreed in both Business and Zoology and has worked with both exotic and native butterflies for a decade. She will discuss the monarch’s lifecycle\, migration\, Eastern vs Western populations\, and why the International Union for Conservation of Nature declared the monarch an endangered species. She’ll provide answers about why they are disappearing and include ways to help the monarch butterfly rebound.
URL:https://gthumanists.org/event/g-t-humanists-meeting-the-endangered-monarch-butterfly/
LOCATION:Traverse Area District Library\, 610 Woodmere Ave.\, Traverse City
CATEGORIES:Meeting
END:VEVENT
BEGIN:VEVENT
DTSTART;TZID=America/Detroit:20221128T180000
DTEND;TZID=America/Detroit:20221128T200000
DTSTAMP:20260421T012344
CREATED:20221012T164711Z
LAST-MODIFIED:20231201T174914Z
UID:3689-1669658400-1669665600@gthumanists.org
SUMMARY:Hungry Humanists: Red Mesa
DESCRIPTION:Grand Traverse Humanists will gather at Red Mesa Grill in Traverse City for dinner and conversation.\nPlease RSVP by texting Mark.
URL:https://gthumanists.org/event/hungry-humanists-red-mesa/
LOCATION:Red Mesa Grill\, 1544 US-31 N\, Traverse City\, 49686
CATEGORIES:Hungry Humanists
ATTACH;FMTTYPE=image/jpeg:https://gthumanists.org/handbookcabbagesparrow/wp-content/uploads/2022/10/redmesa.jpg
END:VEVENT
END:VCALENDAR