BEGIN:VCALENDAR
VERSION:2.0
PRODID:-//Grand Traverse Humanists - ECPv6.15.14//NONSGML v1.0//EN
CALSCALE:GREGORIAN
METHOD:PUBLISH
X-WR-CALNAME:Grand Traverse Humanists
X-ORIGINAL-URL:https://gthumanists.org
X-WR-CALDESC:Events for Grand Traverse Humanists
REFRESH-INTERVAL;VALUE=DURATION:PT1H
X-Robots-Tag:noindex
X-PUBLISHED-TTL:PT1H
BEGIN:VTIMEZONE
TZID:America/Detroit
BEGIN:DAYLIGHT
TZOFFSETFROM:-0500
TZOFFSETTO:-0400
TZNAME:EDT
DTSTART:20110313T070000
END:DAYLIGHT
BEGIN:STANDARD
TZOFFSETFROM:-0400
TZOFFSETTO:-0500
TZNAME:EST
DTSTART:20111106T060000
END:STANDARD
BEGIN:DAYLIGHT
TZOFFSETFROM:-0500
TZOFFSETTO:-0400
TZNAME:EDT
DTSTART:20120311T070000
END:DAYLIGHT
BEGIN:STANDARD
TZOFFSETFROM:-0400
TZOFFSETTO:-0500
TZNAME:EST
DTSTART:20121104T060000
END:STANDARD
BEGIN:DAYLIGHT
TZOFFSETFROM:-0500
TZOFFSETTO:-0400
TZNAME:EDT
DTSTART:20130310T070000
END:DAYLIGHT
BEGIN:STANDARD
TZOFFSETFROM:-0400
TZOFFSETTO:-0500
TZNAME:EST
DTSTART:20131103T060000
END:STANDARD
BEGIN:DAYLIGHT
TZOFFSETFROM:-0500
TZOFFSETTO:-0400
TZNAME:EDT
DTSTART:20140309T070000
END:DAYLIGHT
BEGIN:STANDARD
TZOFFSETFROM:-0400
TZOFFSETTO:-0500
TZNAME:EST
DTSTART:20141102T060000
END:STANDARD
BEGIN:DAYLIGHT
TZOFFSETFROM:-0500
TZOFFSETTO:-0400
TZNAME:EDT
DTSTART:20150308T070000
END:DAYLIGHT
BEGIN:STANDARD
TZOFFSETFROM:-0400
TZOFFSETTO:-0500
TZNAME:EST
DTSTART:20151101T060000
END:STANDARD
BEGIN:DAYLIGHT
TZOFFSETFROM:-0500
TZOFFSETTO:-0400
TZNAME:EDT
DTSTART:20160313T070000
END:DAYLIGHT
BEGIN:STANDARD
TZOFFSETFROM:-0400
TZOFFSETTO:-0500
TZNAME:EST
DTSTART:20161106T060000
END:STANDARD
BEGIN:DAYLIGHT
TZOFFSETFROM:-0500
TZOFFSETTO:-0400
TZNAME:EDT
DTSTART:20170312T070000
END:DAYLIGHT
BEGIN:STANDARD
TZOFFSETFROM:-0400
TZOFFSETTO:-0500
TZNAME:EST
DTSTART:20171105T060000
END:STANDARD
BEGIN:DAYLIGHT
TZOFFSETFROM:-0500
TZOFFSETTO:-0400
TZNAME:EDT
DTSTART:20180311T070000
END:DAYLIGHT
BEGIN:STANDARD
TZOFFSETFROM:-0400
TZOFFSETTO:-0500
TZNAME:EST
DTSTART:20181104T060000
END:STANDARD
BEGIN:DAYLIGHT
TZOFFSETFROM:-0500
TZOFFSETTO:-0400
TZNAME:EDT
DTSTART:20190310T070000
END:DAYLIGHT
BEGIN:STANDARD
TZOFFSETFROM:-0400
TZOFFSETTO:-0500
TZNAME:EST
DTSTART:20191103T060000
END:STANDARD
BEGIN:DAYLIGHT
TZOFFSETFROM:-0500
TZOFFSETTO:-0400
TZNAME:EDT
DTSTART:20200308T070000
END:DAYLIGHT
BEGIN:STANDARD
TZOFFSETFROM:-0400
TZOFFSETTO:-0500
TZNAME:EST
DTSTART:20201101T060000
END:STANDARD
BEGIN:DAYLIGHT
TZOFFSETFROM:-0500
TZOFFSETTO:-0400
TZNAME:EDT
DTSTART:20210314T070000
END:DAYLIGHT
BEGIN:STANDARD
TZOFFSETFROM:-0400
TZOFFSETTO:-0500
TZNAME:EST
DTSTART:20211107T060000
END:STANDARD
BEGIN:DAYLIGHT
TZOFFSETFROM:-0500
TZOFFSETTO:-0400
TZNAME:EDT
DTSTART:20220313T070000
END:DAYLIGHT
BEGIN:STANDARD
TZOFFSETFROM:-0400
TZOFFSETTO:-0500
TZNAME:EST
DTSTART:20221106T060000
END:STANDARD
BEGIN:DAYLIGHT
TZOFFSETFROM:-0500
TZOFFSETTO:-0400
TZNAME:EDT
DTSTART:20230312T070000
END:DAYLIGHT
BEGIN:STANDARD
TZOFFSETFROM:-0400
TZOFFSETTO:-0500
TZNAME:EST
DTSTART:20231105T060000
END:STANDARD
BEGIN:DAYLIGHT
TZOFFSETFROM:-0500
TZOFFSETTO:-0400
TZNAME:EDT
DTSTART:20240310T070000
END:DAYLIGHT
BEGIN:STANDARD
TZOFFSETFROM:-0400
TZOFFSETTO:-0500
TZNAME:EST
DTSTART:20241103T060000
END:STANDARD
END:VTIMEZONE
BEGIN:VEVENT
DTSTART;TZID=America/Detroit:20120625T190000
DTEND;TZID=America/Detroit:20231231T210000
DTSTAMP:20260422T092728
CREATED:20120621T173341Z
LAST-MODIFIED:20231231T183905Z
UID:4465-1340650800-1704056400@gthumanists.org
SUMMARY:Book Club: Discussion of GTH Member Kimberli Bindschatel’s Book
DESCRIPTION:Kimberli has written a fantasy novel aimed at young adult readers which is sure to enthrall.  If you’d like to participate in this event\, email Kimberli@whisperinthewoods @ charter.net for a copy of the book.
URL:https://gthumanists.org/event/book-club-discussion-of-gth-member-kimberli-bindschatels-book/
LOCATION:TBD
CATEGORIES:Book Club
END:VEVENT
BEGIN:VEVENT
DTSTART;TZID=America/Detroit:20131014T190000
DTEND;TZID=America/Detroit:20231224T210000
DTSTAMP:20260422T092728
CREATED:20131201T131238Z
LAST-MODIFIED:20231224T131432Z
UID:4396-1381777200-1703451600@gthumanists.org
SUMMARY:Meeting at the History Center: Great Lakes Water Levels
DESCRIPTION:Hans VanSumeren is the director of the Great Lakes Water Studies Institute at Northwestern Michigan College. Why are lakes levels so low right now? What do science and historical trends tell us about the future? Join us for an illuminating discussion of this freshwater resource at our doorstep.
URL:https://gthumanists.org/event/meeting-at-the-history-center-great-lakes-water-levels/
LOCATION:History Center\, 322 Sixth St.\, Traverse City
CATEGORIES:Meeting
END:VEVENT
BEGIN:VEVENT
DTSTART;TZID=America/Detroit:20210208T190000
DTEND;TZID=America/Detroit:20210208T210000
DTSTAMP:20260422T092728
CREATED:20210111T144851Z
LAST-MODIFIED:20231202T145227Z
UID:3741-1612810800-1612818000@gthumanists.org
SUMMARY:Virtual Meeting: “To Catch a Bird” with William Scharf
DESCRIPTION:Grand Traverse Humanists present William Scharf with a program called\, “To Catch a Bird: the Art and Science.” William will talk about his background of bird capture in nine U.S. states and one foreign country\, and his present project with the Leelanau Conservancy. He’ll cover his early work with birds of prey\, island biology\, and methods used to capture birds\, with a special emphasis on arthropods parasitic on migrant birds in Leelanau County. To register for the meeting\, click here. \nWilliam Scharf has a M.S. and Ph.D. from the University of Minnesota (medical/veterinary entomology-bird parasites)\, is an honorary Elected Member of the American Ornithologist’s Society\, and taught 30 years at Northwestern Michigan College. Since retirement\, he’s held teaching and research positions with the University of Nebraska\, Western Maryland College\, and Lake Superior State University. He has many publications on birds\, small mammals\, fleas\, lice\, ticks\, and tapeworms.
URL:https://gthumanists.org/event/virtual-meeting-to-catch-a-bird-with-william-scharf/
LOCATION:Zoom
CATEGORIES:Meeting
END:VEVENT
END:VCALENDAR