BEGIN:VCALENDAR
VERSION:2.0
PRODID:-//Grand Traverse Humanists - ECPv6.15.14//NONSGML v1.0//EN
CALSCALE:GREGORIAN
METHOD:PUBLISH
X-ORIGINAL-URL:https://gthumanists.org
X-WR-CALDESC:Events for Grand Traverse Humanists
REFRESH-INTERVAL;VALUE=DURATION:PT1H
X-Robots-Tag:noindex
X-PUBLISHED-TTL:PT1H
BEGIN:VTIMEZONE
TZID:America/Detroit
BEGIN:DAYLIGHT
TZOFFSETFROM:-0500
TZOFFSETTO:-0400
TZNAME:EDT
DTSTART:20110313T070000
END:DAYLIGHT
BEGIN:STANDARD
TZOFFSETFROM:-0400
TZOFFSETTO:-0500
TZNAME:EST
DTSTART:20111106T060000
END:STANDARD
BEGIN:DAYLIGHT
TZOFFSETFROM:-0500
TZOFFSETTO:-0400
TZNAME:EDT
DTSTART:20120311T070000
END:DAYLIGHT
BEGIN:STANDARD
TZOFFSETFROM:-0400
TZOFFSETTO:-0500
TZNAME:EST
DTSTART:20121104T060000
END:STANDARD
BEGIN:DAYLIGHT
TZOFFSETFROM:-0500
TZOFFSETTO:-0400
TZNAME:EDT
DTSTART:20130310T070000
END:DAYLIGHT
BEGIN:STANDARD
TZOFFSETFROM:-0400
TZOFFSETTO:-0500
TZNAME:EST
DTSTART:20131103T060000
END:STANDARD
BEGIN:DAYLIGHT
TZOFFSETFROM:-0500
TZOFFSETTO:-0400
TZNAME:EDT
DTSTART:20140309T070000
END:DAYLIGHT
BEGIN:STANDARD
TZOFFSETFROM:-0400
TZOFFSETTO:-0500
TZNAME:EST
DTSTART:20141102T060000
END:STANDARD
BEGIN:DAYLIGHT
TZOFFSETFROM:-0500
TZOFFSETTO:-0400
TZNAME:EDT
DTSTART:20150308T070000
END:DAYLIGHT
BEGIN:STANDARD
TZOFFSETFROM:-0400
TZOFFSETTO:-0500
TZNAME:EST
DTSTART:20151101T060000
END:STANDARD
BEGIN:DAYLIGHT
TZOFFSETFROM:-0500
TZOFFSETTO:-0400
TZNAME:EDT
DTSTART:20160313T070000
END:DAYLIGHT
BEGIN:STANDARD
TZOFFSETFROM:-0400
TZOFFSETTO:-0500
TZNAME:EST
DTSTART:20161106T060000
END:STANDARD
BEGIN:DAYLIGHT
TZOFFSETFROM:-0500
TZOFFSETTO:-0400
TZNAME:EDT
DTSTART:20170312T070000
END:DAYLIGHT
BEGIN:STANDARD
TZOFFSETFROM:-0400
TZOFFSETTO:-0500
TZNAME:EST
DTSTART:20171105T060000
END:STANDARD
BEGIN:DAYLIGHT
TZOFFSETFROM:-0500
TZOFFSETTO:-0400
TZNAME:EDT
DTSTART:20180311T070000
END:DAYLIGHT
BEGIN:STANDARD
TZOFFSETFROM:-0400
TZOFFSETTO:-0500
TZNAME:EST
DTSTART:20181104T060000
END:STANDARD
BEGIN:DAYLIGHT
TZOFFSETFROM:-0500
TZOFFSETTO:-0400
TZNAME:EDT
DTSTART:20190310T070000
END:DAYLIGHT
BEGIN:STANDARD
TZOFFSETFROM:-0400
TZOFFSETTO:-0500
TZNAME:EST
DTSTART:20191103T060000
END:STANDARD
BEGIN:DAYLIGHT
TZOFFSETFROM:-0500
TZOFFSETTO:-0400
TZNAME:EDT
DTSTART:20200308T070000
END:DAYLIGHT
BEGIN:STANDARD
TZOFFSETFROM:-0400
TZOFFSETTO:-0500
TZNAME:EST
DTSTART:20201101T060000
END:STANDARD
BEGIN:DAYLIGHT
TZOFFSETFROM:-0500
TZOFFSETTO:-0400
TZNAME:EDT
DTSTART:20210314T070000
END:DAYLIGHT
BEGIN:STANDARD
TZOFFSETFROM:-0400
TZOFFSETTO:-0500
TZNAME:EST
DTSTART:20211107T060000
END:STANDARD
BEGIN:DAYLIGHT
TZOFFSETFROM:-0500
TZOFFSETTO:-0400
TZNAME:EDT
DTSTART:20220313T070000
END:DAYLIGHT
BEGIN:STANDARD
TZOFFSETFROM:-0400
TZOFFSETTO:-0500
TZNAME:EST
DTSTART:20221106T060000
END:STANDARD
BEGIN:DAYLIGHT
TZOFFSETFROM:-0500
TZOFFSETTO:-0400
TZNAME:EDT
DTSTART:20230312T070000
END:DAYLIGHT
BEGIN:STANDARD
TZOFFSETFROM:-0400
TZOFFSETTO:-0500
TZNAME:EST
DTSTART:20231105T060000
END:STANDARD
BEGIN:DAYLIGHT
TZOFFSETFROM:-0500
TZOFFSETTO:-0400
TZNAME:EDT
DTSTART:20240310T070000
END:DAYLIGHT
BEGIN:STANDARD
TZOFFSETFROM:-0400
TZOFFSETTO:-0500
TZNAME:EST
DTSTART:20241103T060000
END:STANDARD
END:VTIMEZONE
BEGIN:VEVENT
DTSTART;TZID=America/Detroit:20120625T190000
DTEND;TZID=America/Detroit:20231231T210000
DTSTAMP:20260422T185032
CREATED:20120621T173341Z
LAST-MODIFIED:20231231T183905Z
UID:4465-1340650800-1704056400@gthumanists.org
SUMMARY:Book Club: Discussion of GTH Member Kimberli Bindschatel’s Book
DESCRIPTION:Kimberli has written a fantasy novel aimed at young adult readers which is sure to enthrall.  If you’d like to participate in this event\, email Kimberli@whisperinthewoods @ charter.net for a copy of the book.
URL:https://gthumanists.org/event/book-club-discussion-of-gth-member-kimberli-bindschatels-book/
LOCATION:TBD
CATEGORIES:Book Club
END:VEVENT
BEGIN:VEVENT
DTSTART;TZID=America/Detroit:20131014T190000
DTEND;TZID=America/Detroit:20231224T210000
DTSTAMP:20260422T185032
CREATED:20131201T131238Z
LAST-MODIFIED:20231224T131432Z
UID:4396-1381777200-1703451600@gthumanists.org
SUMMARY:Meeting at the History Center: Great Lakes Water Levels
DESCRIPTION:Hans VanSumeren is the director of the Great Lakes Water Studies Institute at Northwestern Michigan College. Why are lakes levels so low right now? What do science and historical trends tell us about the future? Join us for an illuminating discussion of this freshwater resource at our doorstep.
URL:https://gthumanists.org/event/meeting-at-the-history-center-great-lakes-water-levels/
LOCATION:History Center\, 322 Sixth St.\, Traverse City
CATEGORIES:Meeting
END:VEVENT
BEGIN:VEVENT
DTSTART;TZID=America/Detroit:20200802T180000
DTEND;TZID=America/Detroit:20200802T200000
DTSTAMP:20260422T185032
CREATED:20201203T032442Z
LAST-MODIFIED:20231206T032950Z
UID:3840-1596391200-1596398400@gthumanists.org
SUMMARY:G.T. Humanists Book Club: Tightrope-Americans Reaching For Hope
DESCRIPTION:For their next book club selection\, Grand Traverse Humanists will read and discuss “Tightrope” by Nicholas Kristof and Sheryl WuDunn. We are planning to discuss the book over Zoom meeting (link to follow closer to the event). \nAmazon.com description: “The Pulitzer Prize-winning authors of the acclaimed\, best-selling “Half the Sky” now issue a plea–deeply personal and told through the lives of real Americans–to address the crisis in working-class America\, while focusing on solutions to mend a half century of governmental failure. \nWith stark poignancy and political dispassion\, Tightrope draws us deep into an “other America.” The authors tell this story\, in part\, through the lives of some of the children with whom Kristof grew up\, in rural Yamhill\, Oregon\, an area that prospered for much of the twentieth century but has been devastated in the last few decades as blue-collar jobs disappeared. About one-quarter of the children on Kristof’s old school bus died in adulthood from drugs\, alcohol\, suicide\, or reckless accidents. And while these particular stories unfolded in one corner of the country\, they are representative of many places the authors write about\, ranging from the Dakotas and Oklahoma to New York and Virginia. But here too are stories about resurgence\, among them: Annette Dove\, who has devoted her life to helping the teenagers of Pine Bluff\, Arkansas\, as they navigate the chaotic reality of growing up poor; Daniel McDowell\, of Baltimore\, whose tale of opioid addiction and recovery suggests that there are viable ways to solve our nation’s drug epidemic. These accounts\, illustrated with searing images by Lynsey Addario\, the award-winning photographer\, provide a picture of working-class families needlessly but profoundly damaged as a result of decades of policy mistakes. With their superb\, nuanced reportage\, Kristof and WuDunn have given us a book that is both riveting and impossible to ignore.”
URL:https://gthumanists.org/event/g-t-humanists-book-club-tightrope-americans-reaching-for-hope/
LOCATION:Zoom
CATEGORIES:Book Club
ATTACH;FMTTYPE=image/jpeg:https://gthumanists.org/handbookcabbagesparrow/wp-content/uploads/2023/12/tightrope.jpg
END:VEVENT
BEGIN:VEVENT
DTSTART;TZID=America/Detroit:20200817T190000
DTEND;TZID=America/Detroit:20200817T210000
DTSTAMP:20260422T185032
CREATED:20201206T155612Z
LAST-MODIFIED:20231205T155853Z
UID:3826-1597690800-1597698000@gthumanists.org
SUMMARY:G.T. Humanists Sunset Paddle on Boardman Lake
DESCRIPTION:We’ll meet at the boat launch at Hull Park (next to the library) for a sunset paddle of Boardman Lake. This paddle can be as leisurely or as strenuous as you like. You can just bob around for a while as you chat with your fellow Humanists\, or you could paddle all the way around the lake\, or you can paddle down the Boardman River a ways and paddle back up (slow easy current) or paddle to the south end of the lake and up the river (faster current) as far as you can go (unlikely that you can make it farther than the former Sabin Dam area\, although I know of one hardy paddler who has gone up the rapids). \nBYOB (Bring your own boat) and paddle and any other supplies you may need. Send your RSVP and any questions to Linnaea.
URL:https://gthumanists.org/event/g-t-humanists-sunset-paddle-on-boardman-lake/
LOCATION:Hull Park\, 660 Hannah Ave.\, Traverse City
CATEGORIES:Paddle Trip
ATTACH;FMTTYPE=image/jpeg:https://gthumanists.org/handbookcabbagesparrow/wp-content/uploads/2020/08/boardmanlake.jpg
ORGANIZER;CN="Linnaea Melcarek":MAILTO:lmelcarek@gmail.com
END:VEVENT
BEGIN:VEVENT
DTSTART;TZID=America/Detroit:20200824T183000
DTEND;TZID=America/Detroit:20200824T203000
DTSTAMP:20260422T185032
CREATED:20200819T143939Z
LAST-MODIFIED:20231205T154023Z
UID:3815-1598293800-1598301000@gthumanists.org
SUMMARY:Hungry Humanists: Virtual Pasta Night
DESCRIPTION:We miss seeing you for our monthly restaurant outings\, so we’re having our inaugural online Hungry Humanists event this month! It’s PASTA NIGHT for Hungry Humanists… make your favorite pasta dish at home\, and join us online at 6:30 for food\, conversation\, and camaraderie. Then at 7\, Healthy Chef Ali Lopez (also a former GT Humanist presenter!) will join us to share some of her favorite summer pasta cooking tips\, and entertain any questions you may have. \nRegister in advance for this meeting:https://us02web.zoom.us/meeting/register/tZEvceGsqD0oGNTn_Fh4tWKgucFirTUVW3Zt \nAfter registering\, you will receive a confirmation email containing information about joining the meeting. \nHope to dine with you (virtually) soon!
URL:https://gthumanists.org/event/hungry-humanists-virtual-pasta-night/
LOCATION:Zoom
CATEGORIES:Hungry Humanists
END:VEVENT
END:VCALENDAR