BEGIN:VCALENDAR
VERSION:2.0
PRODID:-//Grand Traverse Humanists - ECPv6.15.14//NONSGML v1.0//EN
CALSCALE:GREGORIAN
METHOD:PUBLISH
X-ORIGINAL-URL:https://gthumanists.org
X-WR-CALDESC:Events for Grand Traverse Humanists
REFRESH-INTERVAL;VALUE=DURATION:PT1H
X-Robots-Tag:noindex
X-PUBLISHED-TTL:PT1H
BEGIN:VTIMEZONE
TZID:America/Detroit
BEGIN:DAYLIGHT
TZOFFSETFROM:-0500
TZOFFSETTO:-0400
TZNAME:EDT
DTSTART:20160313T070000
END:DAYLIGHT
BEGIN:STANDARD
TZOFFSETFROM:-0400
TZOFFSETTO:-0500
TZNAME:EST
DTSTART:20161106T060000
END:STANDARD
BEGIN:DAYLIGHT
TZOFFSETFROM:-0500
TZOFFSETTO:-0400
TZNAME:EDT
DTSTART:20170312T070000
END:DAYLIGHT
BEGIN:STANDARD
TZOFFSETFROM:-0400
TZOFFSETTO:-0500
TZNAME:EST
DTSTART:20171105T060000
END:STANDARD
BEGIN:DAYLIGHT
TZOFFSETFROM:-0500
TZOFFSETTO:-0400
TZNAME:EDT
DTSTART:20180311T070000
END:DAYLIGHT
BEGIN:STANDARD
TZOFFSETFROM:-0400
TZOFFSETTO:-0500
TZNAME:EST
DTSTART:20181104T060000
END:STANDARD
END:VTIMEZONE
BEGIN:VEVENT
DTSTART;TZID=America/Detroit:20170716T100000
DTEND;TZID=America/Detroit:20170716T150000
DTSTAMP:20260424T063924
CREATED:20171227T023747Z
LAST-MODIFIED:20231212T030957Z
UID:4037-1500199200-1500217200@gthumanists.org
SUMMARY:Paddle Trip: Manistee River
DESCRIPTION:Let’s get outside and enjoy the beautiful Manistee River! We will start at Harvey Bridge (southeast of Buckley) at 10 a.m. and end at Glengary Bridge (just north of Mesick). This trip takes approximately three hours on the water (assuming you paddle and don’t just float)\, plus time to set up the shuttle and take a mid-day break. RSVP to Linnaea Melcarek via text or email. More info at our Facebook event.
URL:https://gthumanists.org/event/paddle-trip-manistee-river/
LOCATION:TBD
CATEGORIES:Paddle Trip
ATTACH;FMTTYPE=image/jpeg:https://gthumanists.org/handbookcabbagesparrow/wp-content/uploads/2018/08/Manistee.paddle-150x150.jpg
ORGANIZER;CN="Linnaea Melcarek":MAILTO:lmelcarek@gmail.com
END:VEVENT
END:VCALENDAR