BEGIN:VCALENDAR
VERSION:2.0
PRODID:-//Grand Traverse Humanists - ECPv6.15.14//NONSGML v1.0//EN
CALSCALE:GREGORIAN
METHOD:PUBLISH
X-WR-CALNAME:Grand Traverse Humanists
X-ORIGINAL-URL:https://gthumanists.org
X-WR-CALDESC:Events for Grand Traverse Humanists
REFRESH-INTERVAL;VALUE=DURATION:PT1H
X-Robots-Tag:noindex
X-PUBLISHED-TTL:PT1H
BEGIN:VTIMEZONE
TZID:America/Detroit
BEGIN:DAYLIGHT
TZOFFSETFROM:-0500
TZOFFSETTO:-0400
TZNAME:EDT
DTSTART:20120311T070000
END:DAYLIGHT
BEGIN:STANDARD
TZOFFSETFROM:-0400
TZOFFSETTO:-0500
TZNAME:EST
DTSTART:20121104T060000
END:STANDARD
BEGIN:DAYLIGHT
TZOFFSETFROM:-0500
TZOFFSETTO:-0400
TZNAME:EDT
DTSTART:20130310T070000
END:DAYLIGHT
BEGIN:STANDARD
TZOFFSETFROM:-0400
TZOFFSETTO:-0500
TZNAME:EST
DTSTART:20131103T060000
END:STANDARD
BEGIN:DAYLIGHT
TZOFFSETFROM:-0500
TZOFFSETTO:-0400
TZNAME:EDT
DTSTART:20140309T070000
END:DAYLIGHT
BEGIN:STANDARD
TZOFFSETFROM:-0400
TZOFFSETTO:-0500
TZNAME:EST
DTSTART:20141102T060000
END:STANDARD
BEGIN:DAYLIGHT
TZOFFSETFROM:-0500
TZOFFSETTO:-0400
TZNAME:EDT
DTSTART:20150308T070000
END:DAYLIGHT
BEGIN:STANDARD
TZOFFSETFROM:-0400
TZOFFSETTO:-0500
TZNAME:EST
DTSTART:20151101T060000
END:STANDARD
BEGIN:DAYLIGHT
TZOFFSETFROM:-0500
TZOFFSETTO:-0400
TZNAME:EDT
DTSTART:20160313T070000
END:DAYLIGHT
BEGIN:STANDARD
TZOFFSETFROM:-0400
TZOFFSETTO:-0500
TZNAME:EST
DTSTART:20161106T060000
END:STANDARD
BEGIN:DAYLIGHT
TZOFFSETFROM:-0500
TZOFFSETTO:-0400
TZNAME:EDT
DTSTART:20170312T070000
END:DAYLIGHT
BEGIN:STANDARD
TZOFFSETFROM:-0400
TZOFFSETTO:-0500
TZNAME:EST
DTSTART:20171105T060000
END:STANDARD
BEGIN:DAYLIGHT
TZOFFSETFROM:-0500
TZOFFSETTO:-0400
TZNAME:EDT
DTSTART:20180311T070000
END:DAYLIGHT
BEGIN:STANDARD
TZOFFSETFROM:-0400
TZOFFSETTO:-0500
TZNAME:EST
DTSTART:20181104T060000
END:STANDARD
BEGIN:DAYLIGHT
TZOFFSETFROM:-0500
TZOFFSETTO:-0400
TZNAME:EDT
DTSTART:20190310T070000
END:DAYLIGHT
BEGIN:STANDARD
TZOFFSETFROM:-0400
TZOFFSETTO:-0500
TZNAME:EST
DTSTART:20191103T060000
END:STANDARD
BEGIN:DAYLIGHT
TZOFFSETFROM:-0500
TZOFFSETTO:-0400
TZNAME:EDT
DTSTART:20200308T070000
END:DAYLIGHT
BEGIN:STANDARD
TZOFFSETFROM:-0400
TZOFFSETTO:-0500
TZNAME:EST
DTSTART:20201101T060000
END:STANDARD
BEGIN:DAYLIGHT
TZOFFSETFROM:-0500
TZOFFSETTO:-0400
TZNAME:EDT
DTSTART:20210314T070000
END:DAYLIGHT
BEGIN:STANDARD
TZOFFSETFROM:-0400
TZOFFSETTO:-0500
TZNAME:EST
DTSTART:20211107T060000
END:STANDARD
BEGIN:DAYLIGHT
TZOFFSETFROM:-0500
TZOFFSETTO:-0400
TZNAME:EDT
DTSTART:20220313T070000
END:DAYLIGHT
BEGIN:STANDARD
TZOFFSETFROM:-0400
TZOFFSETTO:-0500
TZNAME:EST
DTSTART:20221106T060000
END:STANDARD
BEGIN:DAYLIGHT
TZOFFSETFROM:-0500
TZOFFSETTO:-0400
TZNAME:EDT
DTSTART:20230312T070000
END:DAYLIGHT
BEGIN:STANDARD
TZOFFSETFROM:-0400
TZOFFSETTO:-0500
TZNAME:EST
DTSTART:20231105T060000
END:STANDARD
BEGIN:DAYLIGHT
TZOFFSETFROM:-0500
TZOFFSETTO:-0400
TZNAME:EDT
DTSTART:20240310T070000
END:DAYLIGHT
BEGIN:STANDARD
TZOFFSETFROM:-0400
TZOFFSETTO:-0500
TZNAME:EST
DTSTART:20241103T060000
END:STANDARD
END:VTIMEZONE
BEGIN:VEVENT
DTSTART;TZID=America/Detroit:20131014T190000
DTEND;TZID=America/Detroit:20231224T210000
DTSTAMP:20260424T011452
CREATED:20131201T131238Z
LAST-MODIFIED:20231224T131432Z
UID:4396-1381777200-1703451600@gthumanists.org
SUMMARY:Meeting at the History Center: Great Lakes Water Levels
DESCRIPTION:Hans VanSumeren is the director of the Great Lakes Water Studies Institute at Northwestern Michigan College. Why are lakes levels so low right now? What do science and historical trends tell us about the future? Join us for an illuminating discussion of this freshwater resource at our doorstep.
URL:https://gthumanists.org/event/meeting-at-the-history-center-great-lakes-water-levels/
LOCATION:History Center\, 322 Sixth St.\, Traverse City
CATEGORIES:Meeting
END:VEVENT
BEGIN:VEVENT
DTSTART;TZID=America/Detroit:20200309T190000
DTEND;TZID=America/Detroit:20200309T210000
DTSTAMP:20260424T011452
CREATED:20200228T033823Z
LAST-MODIFIED:20231206T034148Z
UID:3846-1583780400-1583787600@gthumanists.org
SUMMARY:Meeting at the Library: Loreen Niewenhuis\, Lake Walker
DESCRIPTION:Grand Traverse Humanists welcome author and adventurer Loreen Niewenhuis. In 2009\, Loreen Niewenhuis walked the perimeter of Lake Michigan and wrote the bestselling book\, A 1000-MILE WALK ON THE BEACH. In 2012\, she took another long journey\, covering 1000 miles of shoreline touching all five Great Lakes. The book about this adventure\, A 1000-MILE GREAT LAKES WALK\, explores the entire Great Lakes system. Finally\, in 2014\, she launched off of the shoreline to visit many of the islands of the Great Lakes. In 2015 her book A 1000-MILE GREAT LAKES ISLAND ADVENTURE was released. \nLoreen will take you to islands in each of the five Great Lakes and their connecting waters. In words\, photos\, and video\, you’ll explore the geology of the largest system of freshwater lakes in the world and why there are tens of thousands of islands in the Great Lakes basin. She’ll reveal how these islands are diverse in both geological underpinnings and in the life forms existing on the islands. She will also explore some of the scientific research on the islands that she assisted with during her island odyssey. From the wolf-moose study on Isle Royale to the conservation of the endangered piping plover on the Manitou Islands\, Niewenhuis will open your eyes and minds to the complexity of life on our Great Lakes islands. \nLoreen Niewenhuis has a M.S. degree in the biological sciences and a M.F.A. in writing. She raises important questions about preserving our wild places and protecting the fragile ecosystems on which we all depend.
URL:https://gthumanists.org/event/meeting-at-the-library-loreen-niewenhuis-lake-walker/
LOCATION:Traverse Area District Library\, 610 Woodmere Ave.\, Traverse City
CATEGORIES:Meeting
ATTACH;FMTTYPE=image/jpeg:https://gthumanists.org/handbookcabbagesparrow/wp-content/uploads/2020/02/loreenn.jpg
END:VEVENT
END:VCALENDAR