BEGIN:VCALENDAR
VERSION:2.0
PRODID:-//Grand Traverse Humanists - ECPv6.15.14//NONSGML v1.0//EN
CALSCALE:GREGORIAN
METHOD:PUBLISH
X-ORIGINAL-URL:https://gthumanists.org
X-WR-CALDESC:Events for Grand Traverse Humanists
REFRESH-INTERVAL;VALUE=DURATION:PT1H
X-Robots-Tag:noindex
X-PUBLISHED-TTL:PT1H
BEGIN:VTIMEZONE
TZID:America/Detroit
BEGIN:DAYLIGHT
TZOFFSETFROM:-0500
TZOFFSETTO:-0400
TZNAME:EDT
DTSTART:20230312T070000
END:DAYLIGHT
BEGIN:STANDARD
TZOFFSETFROM:-0400
TZOFFSETTO:-0500
TZNAME:EST
DTSTART:20231105T060000
END:STANDARD
BEGIN:DAYLIGHT
TZOFFSETFROM:-0500
TZOFFSETTO:-0400
TZNAME:EDT
DTSTART:20240310T070000
END:DAYLIGHT
BEGIN:STANDARD
TZOFFSETFROM:-0400
TZOFFSETTO:-0500
TZNAME:EST
DTSTART:20241103T060000
END:STANDARD
BEGIN:DAYLIGHT
TZOFFSETFROM:-0500
TZOFFSETTO:-0400
TZNAME:EDT
DTSTART:20250309T070000
END:DAYLIGHT
BEGIN:STANDARD
TZOFFSETFROM:-0400
TZOFFSETTO:-0500
TZNAME:EST
DTSTART:20251102T060000
END:STANDARD
END:VTIMEZONE
BEGIN:VEVENT
DTSTART;TZID=America/Detroit:20240108T180000
DTEND;TZID=America/Detroit:20240108T193000
DTSTAMP:20260421T005809
CREATED:20231210T191747Z
LAST-MODIFIED:20231210T191747Z
UID:4012-1704736800-1704742200@gthumanists.org
SUMMARY:G.T. Humanists Meeting: Ultra-Processed Food
DESCRIPTION:Join the Grand Traverse Humanists as they welcome retired cardiologist and GTH member Dr. Mark Elliott for a talk on ultra-processed food. What are so-called “ultra-processed foods\,” and what is their relationship to obesity\, diabetes\, cancer\, and overall health? Popular author Michael Pollan describes them as “edible food-like substances\,” and they’re designed to be hyperpalatable and even addictive. Dr. Elliot will explore the science behind these foods and how we can make sure our own diet is healthy and balanced.
URL:https://gthumanists.org/event/g-t-humanists-meeting-ultra-processed-food/
LOCATION:Traverse Area District Library\, 610 Woodmere Ave.\, Traverse City
CATEGORIES:Meeting
ATTACH;FMTTYPE=image/jpeg:https://gthumanists.org/handbookcabbagesparrow/wp-content/uploads/2023/12/mark-the-doctor.jpg
END:VEVENT
END:VCALENDAR