BEGIN:VCALENDAR
VERSION:2.0
PRODID:-//Grand Traverse Humanists - ECPv6.15.14//NONSGML v1.0//EN
CALSCALE:GREGORIAN
METHOD:PUBLISH
X-WR-CALNAME:Grand Traverse Humanists
X-ORIGINAL-URL:https://gthumanists.org
X-WR-CALDESC:Events for Grand Traverse Humanists
REFRESH-INTERVAL;VALUE=DURATION:PT1H
X-Robots-Tag:noindex
X-PUBLISHED-TTL:PT1H
BEGIN:VTIMEZONE
TZID:America/Detroit
BEGIN:DAYLIGHT
TZOFFSETFROM:-0500
TZOFFSETTO:-0400
TZNAME:EDT
DTSTART:20190310T070000
END:DAYLIGHT
BEGIN:STANDARD
TZOFFSETFROM:-0400
TZOFFSETTO:-0500
TZNAME:EST
DTSTART:20191103T060000
END:STANDARD
BEGIN:DAYLIGHT
TZOFFSETFROM:-0500
TZOFFSETTO:-0400
TZNAME:EDT
DTSTART:20200308T070000
END:DAYLIGHT
BEGIN:STANDARD
TZOFFSETFROM:-0400
TZOFFSETTO:-0500
TZNAME:EST
DTSTART:20201101T060000
END:STANDARD
BEGIN:DAYLIGHT
TZOFFSETFROM:-0500
TZOFFSETTO:-0400
TZNAME:EDT
DTSTART:20210314T070000
END:DAYLIGHT
BEGIN:STANDARD
TZOFFSETFROM:-0400
TZOFFSETTO:-0500
TZNAME:EST
DTSTART:20211107T060000
END:STANDARD
END:VTIMEZONE
BEGIN:VEVENT
DTSTART;TZID=America/Detroit:20200224T183000
DTEND;TZID=America/Detroit:20200224T183000
DTSTAMP:20260421T092853
CREATED:20200205T034619Z
LAST-MODIFIED:20231206T034848Z
UID:3850-1582569000-1582569000@gthumanists.org
SUMMARY:Hungry Humanists: North Peak Brewing Co.
DESCRIPTION:Grand Traverse Humanists will gather to dine at Traverse City’s North Peak Brewing Company. Great food and great beer! Please RSVP to Scott.
URL:https://gthumanists.org/event/hungry-humanists-north-peak-brewing-co-2/
LOCATION:North Peak Brewing Co.\, 400 West Front Street\, Traverse City
CATEGORIES:Hungry Humanists
ATTACH;FMTTYPE=image/jpeg:https://gthumanists.org/handbookcabbagesparrow/wp-content/uploads/2020/02/northpeaksmall.jpg
ORGANIZER;CN="Scott Blair":MAILTO:scottsamblair@gmail.com
END:VEVENT
END:VCALENDAR