BEGIN:VCALENDAR
VERSION:2.0
PRODID:-//Grand Traverse Humanists - ECPv6.15.14//NONSGML v1.0//EN
CALSCALE:GREGORIAN
METHOD:PUBLISH
X-WR-CALNAME:Grand Traverse Humanists
X-ORIGINAL-URL:https://gthumanists.org
X-WR-CALDESC:Events for Grand Traverse Humanists
REFRESH-INTERVAL;VALUE=DURATION:PT1H
X-Robots-Tag:noindex
X-PUBLISHED-TTL:PT1H
BEGIN:VTIMEZONE
TZID:America/Detroit
BEGIN:DAYLIGHT
TZOFFSETFROM:-0500
TZOFFSETTO:-0400
TZNAME:EDT
DTSTART:20190310T070000
END:DAYLIGHT
BEGIN:STANDARD
TZOFFSETFROM:-0400
TZOFFSETTO:-0500
TZNAME:EST
DTSTART:20191103T060000
END:STANDARD
BEGIN:DAYLIGHT
TZOFFSETFROM:-0500
TZOFFSETTO:-0400
TZNAME:EDT
DTSTART:20200308T070000
END:DAYLIGHT
BEGIN:STANDARD
TZOFFSETFROM:-0400
TZOFFSETTO:-0500
TZNAME:EST
DTSTART:20201101T060000
END:STANDARD
BEGIN:DAYLIGHT
TZOFFSETFROM:-0500
TZOFFSETTO:-0400
TZNAME:EDT
DTSTART:20210314T070000
END:DAYLIGHT
BEGIN:STANDARD
TZOFFSETFROM:-0400
TZOFFSETTO:-0500
TZNAME:EST
DTSTART:20211107T060000
END:STANDARD
END:VTIMEZONE
BEGIN:VEVENT
DTSTART;TZID=America/Detroit:20200127T183000
DTEND;TZID=America/Detroit:20200127T203000
DTSTAMP:20260421T093510
CREATED:20201207T040242Z
LAST-MODIFIED:20231206T040547Z
UID:3858-1580149800-1580157000@gthumanists.org
SUMMARY:Hungry Humanists: Minerva’s
DESCRIPTION:The fourth Monday of most months\, Grand Traverse Humanists meet to eat at a local restaurant. This month\, we’ll gather at Minerva’s Restaurant in the Park Place Hotel. Please RSVP by email to Marlene. Hope you can join us!
URL:https://gthumanists.org/event/hungry-humanists-minervas/
LOCATION:Minerva’s\, 300 E. State St.\, Traverse City
CATEGORIES:Hungry Humanists
ATTACH;FMTTYPE=image/png:https://gthumanists.org/handbookcabbagesparrow/wp-content/uploads/2020/01/minervas.png
ORGANIZER;CN="Marlene Smith":MAILTO:marlene.smith8@gmail.com
END:VEVENT
END:VCALENDAR