BEGIN:VCALENDAR
VERSION:2.0
PRODID:-//Grand Traverse Humanists - ECPv6.15.14//NONSGML v1.0//EN
CALSCALE:GREGORIAN
METHOD:PUBLISH
X-WR-CALNAME:Grand Traverse Humanists
X-ORIGINAL-URL:https://gthumanists.org
X-WR-CALDESC:Events for Grand Traverse Humanists
REFRESH-INTERVAL;VALUE=DURATION:PT1H
X-Robots-Tag:noindex
X-PUBLISHED-TTL:PT1H
BEGIN:VTIMEZONE
TZID:America/Detroit
BEGIN:DAYLIGHT
TZOFFSETFROM:-0500
TZOFFSETTO:-0400
TZNAME:EDT
DTSTART:20180311T070000
END:DAYLIGHT
BEGIN:STANDARD
TZOFFSETFROM:-0400
TZOFFSETTO:-0500
TZNAME:EST
DTSTART:20181104T060000
END:STANDARD
BEGIN:DAYLIGHT
TZOFFSETFROM:-0500
TZOFFSETTO:-0400
TZNAME:EDT
DTSTART:20190310T070000
END:DAYLIGHT
BEGIN:STANDARD
TZOFFSETFROM:-0400
TZOFFSETTO:-0500
TZNAME:EST
DTSTART:20191103T060000
END:STANDARD
BEGIN:DAYLIGHT
TZOFFSETFROM:-0500
TZOFFSETTO:-0400
TZNAME:EDT
DTSTART:20200308T070000
END:DAYLIGHT
BEGIN:STANDARD
TZOFFSETFROM:-0400
TZOFFSETTO:-0500
TZNAME:EST
DTSTART:20201101T060000
END:STANDARD
END:VTIMEZONE
BEGIN:VEVENT
DTSTART;TZID=America/Detroit:20191125T183000
DTEND;TZID=America/Detroit:20191125T183000
DTSTAMP:20260421T132442
CREATED:20191210T041548Z
LAST-MODIFIED:20231206T041841Z
UID:3864-1574706600-1574706600@gthumanists.org
SUMMARY:Hungry Humanists: Poppycocks
DESCRIPTION:Join the Grand Traverse Humanists for dinner out! Meet at Poppycocks at 6:30 p.m. for a delicious meal with friends both old and new. RSVP to Heather by email or text.
URL:https://gthumanists.org/event/hungry-humanists-poppycocks/
LOCATION:Poppycocks\, 128 E. Front St.\, Traverse City
CATEGORIES:Hungry Humanists
ATTACH;FMTTYPE=image/jpeg:https://gthumanists.org/handbookcabbagesparrow/wp-content/uploads/2019/11/poppycocks.jpg
ORGANIZER;CN="Heather Kingham":MAILTO:heather.kingham@gmail.com
END:VEVENT
END:VCALENDAR