BEGIN:VCALENDAR
VERSION:2.0
PRODID:-//Grand Traverse Humanists - ECPv6.15.14//NONSGML v1.0//EN
CALSCALE:GREGORIAN
METHOD:PUBLISH
X-ORIGINAL-URL:https://gthumanists.org
X-WR-CALDESC:Events for Grand Traverse Humanists
REFRESH-INTERVAL;VALUE=DURATION:PT1H
X-Robots-Tag:noindex
X-PUBLISHED-TTL:PT1H
BEGIN:VTIMEZONE
TZID:America/Detroit
BEGIN:DAYLIGHT
TZOFFSETFROM:-0500
TZOFFSETTO:-0400
TZNAME:EDT
DTSTART:20160313T070000
END:DAYLIGHT
BEGIN:STANDARD
TZOFFSETFROM:-0400
TZOFFSETTO:-0500
TZNAME:EST
DTSTART:20161106T060000
END:STANDARD
BEGIN:DAYLIGHT
TZOFFSETFROM:-0500
TZOFFSETTO:-0400
TZNAME:EDT
DTSTART:20170312T070000
END:DAYLIGHT
BEGIN:STANDARD
TZOFFSETFROM:-0400
TZOFFSETTO:-0500
TZNAME:EST
DTSTART:20171105T060000
END:STANDARD
BEGIN:DAYLIGHT
TZOFFSETFROM:-0500
TZOFFSETTO:-0400
TZNAME:EDT
DTSTART:20180311T070000
END:DAYLIGHT
BEGIN:STANDARD
TZOFFSETFROM:-0400
TZOFFSETTO:-0500
TZNAME:EST
DTSTART:20181104T060000
END:STANDARD
END:VTIMEZONE
BEGIN:VEVENT
DTSTART;TZID=America/Detroit:20170828T190000
DTEND;TZID=America/Detroit:20170828T210000
DTSTAMP:20260423T063424
CREATED:20170801T131920Z
LAST-MODIFIED:20231211T144444Z
UID:4017-1503946800-1503954000@gthumanists.org
SUMMARY:Hungry Humanists: Bayview Inn Bar & Grill
DESCRIPTION:Join us for dinner and conversation at the Bayview Inn\, right on the TART Trail and across from beautiful East Bay. RSVP to Marlene via email.
URL:https://gthumanists.org/event/hungry-humanists-bayview-inn-bar-grill/
LOCATION:Franks Bay View Inn Bar & Grill\, 5074 US 31 N\, Acme
CATEGORIES:Hungry Humanists
ATTACH;FMTTYPE=image/webp:https://gthumanists.org/handbookcabbagesparrow/wp-content/uploads/2023/11/franksbayviewinn.webp
ORGANIZER;CN="Marlene Smith":MAILTO:marlene.smith8@gmail.com
END:VEVENT
END:VCALENDAR