BEGIN:VCALENDAR
VERSION:2.0
PRODID:-//Grand Traverse Humanists - ECPv6.15.14//NONSGML v1.0//EN
CALSCALE:GREGORIAN
METHOD:PUBLISH
X-ORIGINAL-URL:https://gthumanists.org
X-WR-CALDESC:Events for Grand Traverse Humanists
REFRESH-INTERVAL;VALUE=DURATION:PT1H
X-Robots-Tag:noindex
X-PUBLISHED-TTL:PT1H
BEGIN:VTIMEZONE
TZID:America/Detroit
BEGIN:DAYLIGHT
TZOFFSETFROM:-0500
TZOFFSETTO:-0400
TZNAME:EDT
DTSTART:20140309T070000
END:DAYLIGHT
BEGIN:STANDARD
TZOFFSETFROM:-0400
TZOFFSETTO:-0500
TZNAME:EST
DTSTART:20141102T060000
END:STANDARD
BEGIN:DAYLIGHT
TZOFFSETFROM:-0500
TZOFFSETTO:-0400
TZNAME:EDT
DTSTART:20150308T070000
END:DAYLIGHT
BEGIN:STANDARD
TZOFFSETFROM:-0400
TZOFFSETTO:-0500
TZNAME:EST
DTSTART:20151101T060000
END:STANDARD
BEGIN:DAYLIGHT
TZOFFSETFROM:-0500
TZOFFSETTO:-0400
TZNAME:EDT
DTSTART:20160313T070000
END:DAYLIGHT
BEGIN:STANDARD
TZOFFSETFROM:-0400
TZOFFSETTO:-0500
TZNAME:EST
DTSTART:20161106T060000
END:STANDARD
BEGIN:DAYLIGHT
TZOFFSETFROM:-0500
TZOFFSETTO:-0400
TZNAME:EDT
DTSTART:20170312T070000
END:DAYLIGHT
BEGIN:STANDARD
TZOFFSETFROM:-0400
TZOFFSETTO:-0500
TZNAME:EST
DTSTART:20171105T060000
END:STANDARD
END:VTIMEZONE
BEGIN:VEVENT
DTSTART;TZID=America/Detroit:20151026T190000
DTEND;TZID=America/Detroit:20161026T210000
DTSTAMP:20260424T122153
CREATED:20151211T143802Z
LAST-MODIFIED:20231218T144458Z
UID:4206-1445886000-1477515600@gthumanists.org
SUMMARY:Hungry Humanists: Panda North
DESCRIPTION:Join us for dinner out! RSVP to Heather at via email
URL:https://gthumanists.org/event/hungry-humanists-panda-north/
LOCATION:Panda North\, 2038 W South Airport Rd\, Traverse City
CATEGORIES:Hungry Humanists
ORGANIZER;CN="Heather Kingham":MAILTO:heather.kingham@gmail.com
END:VEVENT
BEGIN:VEVENT
DTSTART;TZID=America/Detroit:20151123T190000
DTEND;TZID=America/Detroit:20151123T210000
DTSTAMP:20260424T122153
CREATED:20151209T022054Z
LAST-MODIFIED:20231217T022634Z
UID:4166-1448305200-1448312400@gthumanists.org
SUMMARY:Hungry Humanists: Minerva’s
DESCRIPTION:Get ready for Thanksgiving with a warm-up dinner with GTH! RSVP to Heather via text or email.
URL:https://gthumanists.org/event/hungry-humanists-minervas-2/
LOCATION:Minerva’s\, 300 E. State St.\, Traverse City
CATEGORIES:Hungry Humanists
ATTACH;FMTTYPE=image/png:https://gthumanists.org/handbookcabbagesparrow/wp-content/uploads/2020/01/minervas.png
ORGANIZER;CN="Heather Kingham":MAILTO:heather.kingham@gmail.com
END:VEVENT
END:VCALENDAR