BEGIN:VCALENDAR
VERSION:2.0
PRODID:-//Grand Traverse Humanists - ECPv6.15.14//NONSGML v1.0//EN
CALSCALE:GREGORIAN
METHOD:PUBLISH
X-WR-CALNAME:Grand Traverse Humanists
X-ORIGINAL-URL:https://gthumanists.org
X-WR-CALDESC:Events for Grand Traverse Humanists
REFRESH-INTERVAL;VALUE=DURATION:PT1H
X-Robots-Tag:noindex
X-PUBLISHED-TTL:PT1H
BEGIN:VTIMEZONE
TZID:America/Detroit
BEGIN:DAYLIGHT
TZOFFSETFROM:-0500
TZOFFSETTO:-0400
TZNAME:EDT
DTSTART:20130310T070000
END:DAYLIGHT
BEGIN:STANDARD
TZOFFSETFROM:-0400
TZOFFSETTO:-0500
TZNAME:EST
DTSTART:20131103T060000
END:STANDARD
BEGIN:DAYLIGHT
TZOFFSETFROM:-0500
TZOFFSETTO:-0400
TZNAME:EDT
DTSTART:20140309T070000
END:DAYLIGHT
BEGIN:STANDARD
TZOFFSETFROM:-0400
TZOFFSETTO:-0500
TZNAME:EST
DTSTART:20141102T060000
END:STANDARD
BEGIN:DAYLIGHT
TZOFFSETFROM:-0500
TZOFFSETTO:-0400
TZNAME:EDT
DTSTART:20150308T070000
END:DAYLIGHT
BEGIN:STANDARD
TZOFFSETFROM:-0400
TZOFFSETTO:-0500
TZNAME:EST
DTSTART:20151101T060000
END:STANDARD
END:VTIMEZONE
BEGIN:VEVENT
DTSTART;TZID=America/Detroit:20140922T190000
DTEND;TZID=America/Detroit:20140922T210000
DTSTAMP:20260425T070633
CREATED:20140901T185735Z
LAST-MODIFIED:20231222T200833Z
UID:4321-1411412400-1411419600@gthumanists.org
SUMMARY:Hungry Humanists: Harbor 22 Grill
DESCRIPTION:Join us for dinner on the bay at Harbor 22 Grill (formerly Scott’s Harbor Grill). RSVP to Karen via email.
URL:https://gthumanists.org/event/hungry-humanists-harbor-22-grill/
LOCATION:Harbor 22 Grill
CATEGORIES:Hungry Humanists
ORGANIZER;CN="Karen Gredlein":MAILTO:kgredlein@hagerty.com
END:VEVENT
BEGIN:VEVENT
DTSTART;TZID=America/Detroit:20140922T190000
DTEND;TZID=America/Detroit:20140922T210000
DTSTAMP:20260425T070633
CREATED:20140921T184430Z
LAST-MODIFIED:20231222T194636Z
UID:4314-1411412400-1411419600@gthumanists.org
SUMMARY:Hungry Humanists: Pangea’s Pizza
DESCRIPTION:Join us for dinner and conversation at Pangea’s in downtown Traverse City. Pangea’s offers a wide variety of specialty pizzas\, salads\, sandwiches\, soups and appetizers all made with the freshest ingredients and with flavors of the seven continents in mind. RSVP to Karen via email.
URL:https://gthumanists.org/event/hungry-humanists-pangeas-pizza-4/
LOCATION:Pangea’s Pizza\, 135 E. Front St.\, Traverse City
CATEGORIES:Hungry Humanists
ATTACH;FMTTYPE=image/jpeg:https://gthumanists.org/handbookcabbagesparrow/wp-content/uploads/2022/09/pangeanew.jpg
ORGANIZER;CN="Karen Gredlein":MAILTO:kgredlein@hagerty.com
END:VEVENT
END:VCALENDAR