BEGIN:VCALENDAR
VERSION:2.0
PRODID:-//Grand Traverse Humanists - ECPv6.15.14//NONSGML v1.0//EN
CALSCALE:GREGORIAN
METHOD:PUBLISH
X-ORIGINAL-URL:https://gthumanists.org
X-WR-CALDESC:Events for Grand Traverse Humanists
REFRESH-INTERVAL;VALUE=DURATION:PT1H
X-Robots-Tag:noindex
X-PUBLISHED-TTL:PT1H
BEGIN:VTIMEZONE
TZID:America/Detroit
BEGIN:DAYLIGHT
TZOFFSETFROM:-0500
TZOFFSETTO:-0400
TZNAME:EDT
DTSTART:20240310T070000
END:DAYLIGHT
BEGIN:STANDARD
TZOFFSETFROM:-0400
TZOFFSETTO:-0500
TZNAME:EST
DTSTART:20241103T060000
END:STANDARD
BEGIN:DAYLIGHT
TZOFFSETFROM:-0500
TZOFFSETTO:-0400
TZNAME:EDT
DTSTART:20250309T070000
END:DAYLIGHT
BEGIN:STANDARD
TZOFFSETFROM:-0400
TZOFFSETTO:-0500
TZNAME:EST
DTSTART:20251102T060000
END:STANDARD
BEGIN:DAYLIGHT
TZOFFSETFROM:-0500
TZOFFSETTO:-0400
TZNAME:EDT
DTSTART:20260308T070000
END:DAYLIGHT
BEGIN:STANDARD
TZOFFSETFROM:-0400
TZOFFSETTO:-0500
TZNAME:EST
DTSTART:20261101T060000
END:STANDARD
END:VTIMEZONE
BEGIN:VEVENT
DTSTART;TZID=America/Detroit:20251116T160000
DTEND;TZID=America/Detroit:20251116T180000
DTSTAMP:20260421T122628
CREATED:20251005T223032Z
LAST-MODIFIED:20251016T154419Z
UID:4991-1763308800-1763316000@gthumanists.org
SUMMARY:G.T. Humanists Book Club: "King: A Life"
DESCRIPTION:Join the Grand Traverse Humanists on November 16 at 4 PM as we discuss the book “King: A Life\,” by Jonathan Eig\, which won the 2024 Pulitzer Prize for Biography.\n\nWe will meet at the home of Lin and Rich Foa\, 1415 Lake Drive in Traverse City. Please RSVP to Rich at 720-545-8828. Bring a potluck dish to share\, if you like!
URL:https://gthumanists.org/event/g-t-humanists-book-club-king-a-life/
LOCATION:Home of Rich and Lin Foa\, Traverse City
CATEGORIES:Book Club
ATTACH;FMTTYPE=image/jpeg:https://gthumanists.org/handbookcabbagesparrow/wp-content/uploads/2025/10/kinglife.jpg
ORGANIZER;CN="Richard Foa":MAILTO:rfoa70@gmail.com
END:VEVENT
END:VCALENDAR