BEGIN:VCALENDAR
VERSION:2.0
PRODID:-//Grand Traverse Humanists - ECPv6.15.14//NONSGML v1.0//EN
CALSCALE:GREGORIAN
METHOD:PUBLISH
X-ORIGINAL-URL:https://gthumanists.org
X-WR-CALDESC:Events for Grand Traverse Humanists
REFRESH-INTERVAL;VALUE=DURATION:PT1H
X-Robots-Tag:noindex
X-PUBLISHED-TTL:PT1H
BEGIN:VTIMEZONE
TZID:America/Detroit
BEGIN:DAYLIGHT
TZOFFSETFROM:-0500
TZOFFSETTO:-0400
TZNAME:EDT
DTSTART:20240310T070000
END:DAYLIGHT
BEGIN:STANDARD
TZOFFSETFROM:-0400
TZOFFSETTO:-0500
TZNAME:EST
DTSTART:20241103T060000
END:STANDARD
BEGIN:DAYLIGHT
TZOFFSETFROM:-0500
TZOFFSETTO:-0400
TZNAME:EDT
DTSTART:20250309T070000
END:DAYLIGHT
BEGIN:STANDARD
TZOFFSETFROM:-0400
TZOFFSETTO:-0500
TZNAME:EST
DTSTART:20251102T060000
END:STANDARD
BEGIN:DAYLIGHT
TZOFFSETFROM:-0500
TZOFFSETTO:-0400
TZNAME:EDT
DTSTART:20260308T070000
END:DAYLIGHT
BEGIN:STANDARD
TZOFFSETFROM:-0400
TZOFFSETTO:-0500
TZNAME:EST
DTSTART:20261101T060000
END:STANDARD
END:VTIMEZONE
BEGIN:VEVENT
DTSTART;TZID=America/Detroit:20250907T110000
DTEND;TZID=America/Detroit:20250907T150000
DTSTAMP:20260419T234508
CREATED:20250904T184208Z
LAST-MODIFIED:20250904T184208Z
UID:4959-1757242800-1757257200@gthumanists.org
SUMMARY:G.T. Humanists Bike Ride: Farm Club
DESCRIPTION:Our September group bike ride is scheduled for Sunday\, September 7. We will meet at Medalie Park (at the south end of Boardman Lake) at 11:00 AM and ride to Farm Club Restaurant along the Leelanau Trail.\n\nThe forecast is for cooler temperatures Sunday. We can take in the feel of the coming autumn on the trail and eat in an indoor restaurant.\n\nPlease RSVP to Scott at 231-313-7214. RSVP is particularly useful in case of a rain cancellation (there is a chance of rain Sunday morning).
URL:https://gthumanists.org/event/g-t-humanists-bike-ride-farm-club-2/
LOCATION:Medalie Park\, 1910 W. South Airport Rd.\, Traverse City\, MI\, 49686
CATEGORIES:Bike Ride
ATTACH;FMTTYPE=image/jpeg:https://gthumanists.org/handbookcabbagesparrow/wp-content/uploads/2025/09/farmclub.jpg
ORGANIZER;CN="Scott Blair":MAILTO:scottsamblair@gmail.com
END:VEVENT
END:VCALENDAR