BEGIN:VCALENDAR
VERSION:2.0
PRODID:-//Grand Traverse Humanists - ECPv6.15.14//NONSGML v1.0//EN
CALSCALE:GREGORIAN
METHOD:PUBLISH
X-ORIGINAL-URL:https://gthumanists.org
X-WR-CALDESC:Events for Grand Traverse Humanists
REFRESH-INTERVAL;VALUE=DURATION:PT1H
X-Robots-Tag:noindex
X-PUBLISHED-TTL:PT1H
BEGIN:VTIMEZONE
TZID:America/Detroit
BEGIN:DAYLIGHT
TZOFFSETFROM:-0500
TZOFFSETTO:-0400
TZNAME:EDT
DTSTART:20220313T070000
END:DAYLIGHT
BEGIN:STANDARD
TZOFFSETFROM:-0400
TZOFFSETTO:-0500
TZNAME:EST
DTSTART:20221106T060000
END:STANDARD
BEGIN:DAYLIGHT
TZOFFSETFROM:-0500
TZOFFSETTO:-0400
TZNAME:EDT
DTSTART:20230312T070000
END:DAYLIGHT
BEGIN:STANDARD
TZOFFSETFROM:-0400
TZOFFSETTO:-0500
TZNAME:EST
DTSTART:20231105T060000
END:STANDARD
BEGIN:DAYLIGHT
TZOFFSETFROM:-0500
TZOFFSETTO:-0400
TZNAME:EDT
DTSTART:20240310T070000
END:DAYLIGHT
BEGIN:STANDARD
TZOFFSETFROM:-0400
TZOFFSETTO:-0500
TZNAME:EST
DTSTART:20241103T060000
END:STANDARD
END:VTIMEZONE
BEGIN:VEVENT
DTSTART;TZID=America/Detroit:20231001T110000
DTEND;TZID=America/Detroit:20231001T170000
DTSTAMP:20260421T090426
CREATED:20231129T150011Z
LAST-MODIFIED:20231129T150011Z
UID:3577-1696158000-1696179600@gthumanists.org
SUMMARY:G.T. Humanists Bike Ride + Tin Foil Lunch: VASA Single Track
DESCRIPTION:G.T. Humanists will meet at the home of Scott and Suzette Blair to ride the VASA Single Track and partake in a tin foil lunch/potluck. BYO packet of ingredients in a tin foil container to cook over a fire\, plus whatever else you’d like to share. RSVP to Scott at 231-313-7214.
URL:https://gthumanists.org/event/g-t-humanists-bike-ride-tin-foil-lunch-vasa-single-track/
LOCATION:Home of Scott and Suzette Blair\, Traverse City
CATEGORIES:Bike Ride
ATTACH;FMTTYPE=image/jpeg:https://gthumanists.org/handbookcabbagesparrow/wp-content/uploads/2023/09/vasasingletrack.jpg
ORGANIZER;CN="Scott Blair":MAILTO:scottsamblair@gmail.com
END:VEVENT
END:VCALENDAR