BEGIN:VCALENDAR
VERSION:2.0
PRODID:-//Grand Traverse Humanists - ECPv6.15.14//NONSGML v1.0//EN
CALSCALE:GREGORIAN
METHOD:PUBLISH
X-ORIGINAL-URL:https://gthumanists.org
X-WR-CALDESC:Events for Grand Traverse Humanists
REFRESH-INTERVAL;VALUE=DURATION:PT1H
X-Robots-Tag:noindex
X-PUBLISHED-TTL:PT1H
BEGIN:VTIMEZONE
TZID:America/Detroit
BEGIN:DAYLIGHT
TZOFFSETFROM:-0500
TZOFFSETTO:-0400
TZNAME:EDT
DTSTART:20170312T070000
END:DAYLIGHT
BEGIN:STANDARD
TZOFFSETFROM:-0400
TZOFFSETTO:-0500
TZNAME:EST
DTSTART:20171105T060000
END:STANDARD
BEGIN:DAYLIGHT
TZOFFSETFROM:-0500
TZOFFSETTO:-0400
TZNAME:EDT
DTSTART:20180311T070000
END:DAYLIGHT
BEGIN:STANDARD
TZOFFSETFROM:-0400
TZOFFSETTO:-0500
TZNAME:EST
DTSTART:20181104T060000
END:STANDARD
BEGIN:DAYLIGHT
TZOFFSETFROM:-0500
TZOFFSETTO:-0400
TZNAME:EDT
DTSTART:20190310T070000
END:DAYLIGHT
BEGIN:STANDARD
TZOFFSETFROM:-0400
TZOFFSETTO:-0500
TZNAME:EST
DTSTART:20191103T060000
END:STANDARD
END:VTIMEZONE
BEGIN:VEVENT
DTSTART;TZID=America/Detroit:20180603T103000
DTEND;TZID=America/Detroit:20180603T153000
DTSTAMP:20260425T063343
CREATED:20180416T021138Z
LAST-MODIFIED:20231209T031550Z
UID:3975-1528021800-1528039800@gthumanists.org
SUMMARY:Bike Ride: TC to Suttons Bay
DESCRIPTION:All summer long\, Grand Traverse Humanists host bike rides on the first Sunday of the month. Usually we start at Darrow Park in Traverse City at 10:30 a.m.\, bike up to Suttons Bay on the Leelanau Trail\, have lunch\, and then bike back (or take BATA back to Traverse City). However\, we’ve also biked other local trails\, including the Heritage Trail in the Sleeping Bear Dunes National Lakeshore and the Betsie Valley Trail from Beulah to Frankfort. Starting time and location to be announced. Stay tuned for more details!
URL:https://gthumanists.org/event/bike-ride-tc-to-suttons-bay-2/
LOCATION:Darrow Park\, 1025 Bay St.\, Traverse City
CATEGORIES:Bike Ride
ATTACH;FMTTYPE=image/jpeg:https://gthumanists.org/handbookcabbagesparrow/wp-content/uploads/2018/08/leelanautrail-300x225.jpg
END:VEVENT
END:VCALENDAR