BEGIN:VCALENDAR
VERSION:2.0
PRODID:-//Grand Traverse Humanists - ECPv6.15.14//NONSGML v1.0//EN
CALSCALE:GREGORIAN
METHOD:PUBLISH
X-WR-CALNAME:Grand Traverse Humanists
X-ORIGINAL-URL:https://gthumanists.org
X-WR-CALDESC:Events for Grand Traverse Humanists
REFRESH-INTERVAL;VALUE=DURATION:PT1H
X-Robots-Tag:noindex
X-PUBLISHED-TTL:PT1H
BEGIN:VTIMEZONE
TZID:America/Detroit
BEGIN:DAYLIGHT
TZOFFSETFROM:-0500
TZOFFSETTO:-0400
TZNAME:EDT
DTSTART:20240310T070000
END:DAYLIGHT
BEGIN:STANDARD
TZOFFSETFROM:-0400
TZOFFSETTO:-0500
TZNAME:EST
DTSTART:20241103T060000
END:STANDARD
BEGIN:DAYLIGHT
TZOFFSETFROM:-0500
TZOFFSETTO:-0400
TZNAME:EDT
DTSTART:20250309T070000
END:DAYLIGHT
BEGIN:STANDARD
TZOFFSETFROM:-0400
TZOFFSETTO:-0500
TZNAME:EST
DTSTART:20251102T060000
END:STANDARD
BEGIN:DAYLIGHT
TZOFFSETFROM:-0500
TZOFFSETTO:-0400
TZNAME:EDT
DTSTART:20260308T070000
END:DAYLIGHT
BEGIN:STANDARD
TZOFFSETFROM:-0400
TZOFFSETTO:-0500
TZNAME:EST
DTSTART:20261101T060000
END:STANDARD
END:VTIMEZONE
BEGIN:VEVENT
DTSTART;TZID=America/Detroit:20250706T110000
DTEND;TZID=America/Detroit:20250706T140000
DTSTAMP:20260420T010343
CREATED:20250703T231439Z
LAST-MODIFIED:20250706T134707Z
UID:4886-1751799600-1751810400@gthumanists.org
SUMMARY:G.T. Humanists Bike Ride: Hull Park to Red Mesa Grill CANCELLED due to rain
DESCRIPTION:Our next Humanist bike ride will begin at Hull Park at 11 AM on July 6. We will ride around Boardman Lake\, then continue on the TART trail to Red Mesa Grill for lunch (about 7 miles one way). It’s a fun\, leisurely bike ride\, and e-bikes are welcome. If you plan to meet up along the way\, let Mark know by texting or calling 231-392-1215.
URL:https://gthumanists.org/event/g-t-humanists-bike-ride-farm-club/
LOCATION:Medalie Park\, 1910 W. South Airport Rd.\, Traverse City\, MI\, 49686
CATEGORIES:Bike Ride
ATTACH;FMTTYPE=image/jpeg:https://gthumanists.org/handbookcabbagesparrow/wp-content/uploads/2025/06/farmclub.jpg
END:VEVENT
END:VCALENDAR