BEGIN:VCALENDAR
VERSION:2.0
PRODID:-//Grand Traverse Humanists - ECPv6.15.14//NONSGML v1.0//EN
CALSCALE:GREGORIAN
METHOD:PUBLISH
X-ORIGINAL-URL:https://gthumanists.org
X-WR-CALDESC:Events for Grand Traverse Humanists
REFRESH-INTERVAL;VALUE=DURATION:PT1H
X-Robots-Tag:noindex
X-PUBLISHED-TTL:PT1H
BEGIN:VTIMEZONE
TZID:America/Detroit
BEGIN:DAYLIGHT
TZOFFSETFROM:-0500
TZOFFSETTO:-0400
TZNAME:EDT
DTSTART:20210314T070000
END:DAYLIGHT
BEGIN:STANDARD
TZOFFSETFROM:-0400
TZOFFSETTO:-0500
TZNAME:EST
DTSTART:20211107T060000
END:STANDARD
BEGIN:DAYLIGHT
TZOFFSETFROM:-0500
TZOFFSETTO:-0400
TZNAME:EDT
DTSTART:20220313T070000
END:DAYLIGHT
BEGIN:STANDARD
TZOFFSETFROM:-0400
TZOFFSETTO:-0500
TZNAME:EST
DTSTART:20221106T060000
END:STANDARD
BEGIN:DAYLIGHT
TZOFFSETFROM:-0500
TZOFFSETTO:-0400
TZNAME:EDT
DTSTART:20230312T070000
END:DAYLIGHT
BEGIN:STANDARD
TZOFFSETFROM:-0400
TZOFFSETTO:-0500
TZNAME:EST
DTSTART:20231105T060000
END:STANDARD
END:VTIMEZONE
BEGIN:VEVENT
DTSTART;TZID=America/Detroit:20221002T110000
DTEND;TZID=America/Detroit:20221002T160000
DTSTAMP:20260422T012955
CREATED:20220919T171058Z
LAST-MODIFIED:20231201T181456Z
UID:3696-1664708400-1664726400@gthumanists.org
SUMMARY:Humanist Bike Ride to Suttons Bay
DESCRIPTION:We’ll gather at Darrow Park in Traverse City at 11 AM\, then bike up the Leelanau Trail to Suttons Bay to have lunch\, then bike back. \nThere’s always the option to take the BATA bus back to TC if you don’t want to bike both ways.
URL:https://gthumanists.org/event/humanist-bike-ride-to-suttons-bay/
LOCATION:Darrow Park\, 1025 Bay St.\, Traverse City
CATEGORIES:Bike Ride
END:VEVENT
END:VCALENDAR