BEGIN:VCALENDAR
VERSION:2.0
PRODID:-//Grand Traverse Humanists - ECPv6.15.14//NONSGML v1.0//EN
CALSCALE:GREGORIAN
METHOD:PUBLISH
X-WR-CALNAME:Grand Traverse Humanists
X-ORIGINAL-URL:https://gthumanists.org
X-WR-CALDESC:Events for Grand Traverse Humanists
REFRESH-INTERVAL;VALUE=DURATION:PT1H
X-Robots-Tag:noindex
X-PUBLISHED-TTL:PT1H
BEGIN:VTIMEZONE
TZID:America/Detroit
BEGIN:DAYLIGHT
TZOFFSETFROM:-0500
TZOFFSETTO:-0400
TZNAME:EDT
DTSTART:20230312T070000
END:DAYLIGHT
BEGIN:STANDARD
TZOFFSETFROM:-0400
TZOFFSETTO:-0500
TZNAME:EST
DTSTART:20231105T060000
END:STANDARD
BEGIN:DAYLIGHT
TZOFFSETFROM:-0500
TZOFFSETTO:-0400
TZNAME:EDT
DTSTART:20240310T070000
END:DAYLIGHT
BEGIN:STANDARD
TZOFFSETFROM:-0400
TZOFFSETTO:-0500
TZNAME:EST
DTSTART:20241103T060000
END:STANDARD
BEGIN:DAYLIGHT
TZOFFSETFROM:-0500
TZOFFSETTO:-0400
TZNAME:EDT
DTSTART:20250309T070000
END:DAYLIGHT
BEGIN:STANDARD
TZOFFSETFROM:-0400
TZOFFSETTO:-0500
TZNAME:EST
DTSTART:20251102T060000
END:STANDARD
END:VTIMEZONE
BEGIN:VEVENT
DTSTART;TZID=America/Detroit:20241014T180000
DTEND;TZID=America/Detroit:20241014T193000
DTSTAMP:20260419T161320
CREATED:20241013T150017Z
LAST-MODIFIED:20241013T224846Z
UID:4729-1728928800-1728934200@gthumanists.org
SUMMARY:G.T. Humanists Meeting Oct 14: Why Emotions Matter
DESCRIPTION:Join the Grand Traverse Humanists at 6 p.m. at Traverse Area District Library as they welcome Anya Nyson with a talk called “Why Emotions Matter: Elevating our Humanity Through Neuroscience and Personal Practice.”\nAdvancements in neuroscience and psychology have provided remarkable insights into the intricate role emotions play in shaping cognition\, behavior\, and overall well-being. Despite these leaps forward\, many societal and institutional frameworks remain rooted in outdated views that prioritize logic over emotion. This talk explores how a deeper understanding of emotions can foster personal growth\, enrich our relationships\, and improve decision-making. We will discuss how integrating emotional intelligence into everyday life can bridge the gap between what we know and how we live\, offering transformative potential in both individual and collective experiences.\n\nAnya Nyson has been a psychotherapist in private practice since 2011\, specializing in treating adults with anxiety\, depression\, and attachment trauma. Anya previously worked in community mental health and holds psychology and social work degrees. Alongside her practice\, Anya is currently developing Mentally Healthy Menopause\, a comprehensive curriculum and online support program with the ambition to create global change in how 40% of a female’s lifespan impacts how aging women are viewed and valued in the world.
URL:https://gthumanists.org/event/g-t-humanists-meeting-why-emotions-matter/
LOCATION:Traverse Area District Library\, 610 Woodmere Ave.\, Traverse City
CATEGORIES:Meeting
ATTACH;FMTTYPE=image/jpeg:https://gthumanists.org/handbookcabbagesparrow/wp-content/uploads/2024/09/anya-talk.jpg
END:VEVENT
END:VCALENDAR