BEGIN:VCALENDAR
VERSION:2.0
PRODID:-//Grand Traverse Humanists - ECPv6.15.14//NONSGML v1.0//EN
CALSCALE:GREGORIAN
METHOD:PUBLISH
X-WR-CALNAME:Grand Traverse Humanists
X-ORIGINAL-URL:https://gthumanists.org
X-WR-CALDESC:Events for Grand Traverse Humanists
REFRESH-INTERVAL;VALUE=DURATION:PT1H
X-Robots-Tag:noindex
X-PUBLISHED-TTL:PT1H
BEGIN:VTIMEZONE
TZID:America/Detroit
BEGIN:DAYLIGHT
TZOFFSETFROM:-0500
TZOFFSETTO:-0400
TZNAME:EDT
DTSTART:20230312T070000
END:DAYLIGHT
BEGIN:STANDARD
TZOFFSETFROM:-0400
TZOFFSETTO:-0500
TZNAME:EST
DTSTART:20231105T060000
END:STANDARD
BEGIN:DAYLIGHT
TZOFFSETFROM:-0500
TZOFFSETTO:-0400
TZNAME:EDT
DTSTART:20240310T070000
END:DAYLIGHT
BEGIN:STANDARD
TZOFFSETFROM:-0400
TZOFFSETTO:-0500
TZNAME:EST
DTSTART:20241103T060000
END:STANDARD
BEGIN:DAYLIGHT
TZOFFSETFROM:-0500
TZOFFSETTO:-0400
TZNAME:EDT
DTSTART:20250309T070000
END:DAYLIGHT
BEGIN:STANDARD
TZOFFSETFROM:-0400
TZOFFSETTO:-0500
TZNAME:EST
DTSTART:20251102T060000
END:STANDARD
END:VTIMEZONE
BEGIN:VEVENT
DTSTART;TZID=America/Detroit:20241006T110000
DTEND;TZID=America/Detroit:20241006T140000
DTSTAMP:20260419T160058
CREATED:20240822T185438Z
LAST-MODIFIED:20240927T184811Z
UID:4712-1728212400-1728223200@gthumanists.org
SUMMARY:G.T. Humanists Bike Ride: Boardman Lake Trail
DESCRIPTION:Join the Grand Traverse Humanists for a bike ride on the Boardman Lake Trail and TART Trail\, with lunch at Red Mesa Grill.\n\nWe’ll meet at Hull Park in Traverse City (next to the library). Please RSVP to Mark at 231-392-1215.
URL:https://gthumanists.org/event/g-t-humanists-bike-ride-vasa-single-track/
LOCATION:Hull Park\, 660 Hannah Ave.\, Traverse City
CATEGORIES:Bike Ride
END:VEVENT
END:VCALENDAR