BEGIN:VCALENDAR
VERSION:2.0
PRODID:-//Grand Traverse Humanists - ECPv6.15.14//NONSGML v1.0//EN
CALSCALE:GREGORIAN
METHOD:PUBLISH
X-WR-CALNAME:Grand Traverse Humanists
X-ORIGINAL-URL:https://gthumanists.org
X-WR-CALDESC:Events for Grand Traverse Humanists
REFRESH-INTERVAL;VALUE=DURATION:PT1H
X-Robots-Tag:noindex
X-PUBLISHED-TTL:PT1H
BEGIN:VTIMEZONE
TZID:America/Detroit
BEGIN:DAYLIGHT
TZOFFSETFROM:-0500
TZOFFSETTO:-0400
TZNAME:EDT
DTSTART:20230312T070000
END:DAYLIGHT
BEGIN:STANDARD
TZOFFSETFROM:-0400
TZOFFSETTO:-0500
TZNAME:EST
DTSTART:20231105T060000
END:STANDARD
BEGIN:DAYLIGHT
TZOFFSETFROM:-0500
TZOFFSETTO:-0400
TZNAME:EDT
DTSTART:20240310T070000
END:DAYLIGHT
BEGIN:STANDARD
TZOFFSETFROM:-0400
TZOFFSETTO:-0500
TZNAME:EST
DTSTART:20241103T060000
END:STANDARD
BEGIN:DAYLIGHT
TZOFFSETFROM:-0500
TZOFFSETTO:-0400
TZNAME:EDT
DTSTART:20250309T070000
END:DAYLIGHT
BEGIN:STANDARD
TZOFFSETFROM:-0400
TZOFFSETTO:-0500
TZNAME:EST
DTSTART:20251102T060000
END:STANDARD
END:VTIMEZONE
BEGIN:VEVENT
DTSTART;TZID=America/Detroit:20240929T160000
DTEND;TZID=America/Detroit:20240929T180000
DTSTAMP:20260419T161358
CREATED:20240822T185709Z
LAST-MODIFIED:20240908T023822Z
UID:4714-1727625600-1727632800@gthumanists.org
SUMMARY:G.T. Humanist Book Club: Everything I Learned\, I Learned in a Chinese Restaurant
DESCRIPTION:The next book chosen for the Grand Traverse Humanists book club is “Everything I Learned\, I Learned in a Chinese Restaurant\,” by Curtis Chin. It’s a memoir that tells the story of the author growing up as a gay Chinese-American kid in 1980s Detroit.\n\nWe’ll meet to discuss the book on Sunday\, September 29\, at 4 p.m. at the home of Sue and Gregg McDonald. RSVP to Sue at librarygirl1963@hotmail.com\, or 231-360-7510.
URL:https://gthumanists.org/event/g-t-humanist-book-club-everything-i-learned-i-learned-in-a-chinese-restaurant/
LOCATION:Home of Gregg and Sue McDonald
CATEGORIES:Book Club
ATTACH;FMTTYPE=image/jpeg:https://gthumanists.org/handbookcabbagesparrow/wp-content/uploads/2024/08/chineserestbook.jpg
ORGANIZER;CN="Sue McDonald":MAILTO:librarygirl1963@hotmail.com
END:VEVENT
END:VCALENDAR