BEGIN:VCALENDAR
VERSION:2.0
PRODID:-//Grand Traverse Humanists - ECPv6.15.14//NONSGML v1.0//EN
CALSCALE:GREGORIAN
METHOD:PUBLISH
X-ORIGINAL-URL:https://gthumanists.org
X-WR-CALDESC:Events for Grand Traverse Humanists
REFRESH-INTERVAL;VALUE=DURATION:PT1H
X-Robots-Tag:noindex
X-PUBLISHED-TTL:PT1H
BEGIN:VTIMEZONE
TZID:America/Detroit
BEGIN:DAYLIGHT
TZOFFSETFROM:-0500
TZOFFSETTO:-0400
TZNAME:EDT
DTSTART:20230312T070000
END:DAYLIGHT
BEGIN:STANDARD
TZOFFSETFROM:-0400
TZOFFSETTO:-0500
TZNAME:EST
DTSTART:20231105T060000
END:STANDARD
BEGIN:DAYLIGHT
TZOFFSETFROM:-0500
TZOFFSETTO:-0400
TZNAME:EDT
DTSTART:20240310T070000
END:DAYLIGHT
BEGIN:STANDARD
TZOFFSETFROM:-0400
TZOFFSETTO:-0500
TZNAME:EST
DTSTART:20241103T060000
END:STANDARD
BEGIN:DAYLIGHT
TZOFFSETFROM:-0500
TZOFFSETTO:-0400
TZNAME:EDT
DTSTART:20250309T070000
END:DAYLIGHT
BEGIN:STANDARD
TZOFFSETFROM:-0400
TZOFFSETTO:-0500
TZNAME:EST
DTSTART:20251102T060000
END:STANDARD
END:VTIMEZONE
BEGIN:VEVENT
DTSTART;TZID=America/Detroit:20240708T180000
DTEND;TZID=America/Detroit:20240708T193000
DTSTAMP:20260419T203430
CREATED:20240630T151626Z
LAST-MODIFIED:20240701T061058Z
UID:4688-1720461600-1720467000@gthumanists.org
SUMMARY:G.T. Humanists Meeting: Separation of Church and State
DESCRIPTION:Join the Grand Traverse Humanists for a presentation by attorney Eleanor Lynn on the separation of church and state. Is Separation of Church and State in the United States dead on arrival? Should we give the Establishment Clause a decent Christian burial? \nEleanor Lynn will give an expert legal analysis of Supreme Court decisions issued over the past forty years dealing with “freedom of religion.“ These decisions have significantly eroded the U.S. Constitution’s first amendment provisions that prohibit any law that would interfere with the free exercise of any religion or would provide for a State-supported religion.\n\nEleanor Lynn is a well-recognized attorney with extensive legal experience in diverse areas of the law. She was in private practice for over twenty years and an adjunct professor of law at Cooley Law School\, as well as an assistant Attorney General for the State of Iowa. Also\, she was a legal researcher for the University of Iowa where she concentrated on Constitutional law and Native American law. Currently\, she is very active in leadership positions in Traverse City and teaches classes on the First Amendment and the Supreme Court\, at Northwestern Michigan College.
URL:https://gthumanists.org/event/g-t-humanists-meeting-separation-of-church-and-state/
LOCATION:Traverse Area District Library\, 610 Woodmere Ave.\, Traverse City
CATEGORIES:Meeting
END:VEVENT
END:VCALENDAR