BEGIN:VCALENDAR
VERSION:2.0
PRODID:-//Grand Traverse Humanists - ECPv6.15.14//NONSGML v1.0//EN
CALSCALE:GREGORIAN
METHOD:PUBLISH
X-WR-CALNAME:Grand Traverse Humanists
X-ORIGINAL-URL:https://gthumanists.org
X-WR-CALDESC:Events for Grand Traverse Humanists
REFRESH-INTERVAL;VALUE=DURATION:PT1H
X-Robots-Tag:noindex
X-PUBLISHED-TTL:PT1H
BEGIN:VTIMEZONE
TZID:America/Detroit
BEGIN:DAYLIGHT
TZOFFSETFROM:-0500
TZOFFSETTO:-0400
TZNAME:EDT
DTSTART:20230312T070000
END:DAYLIGHT
BEGIN:STANDARD
TZOFFSETFROM:-0400
TZOFFSETTO:-0500
TZNAME:EST
DTSTART:20231105T060000
END:STANDARD
BEGIN:DAYLIGHT
TZOFFSETFROM:-0500
TZOFFSETTO:-0400
TZNAME:EDT
DTSTART:20240310T070000
END:DAYLIGHT
BEGIN:STANDARD
TZOFFSETFROM:-0400
TZOFFSETTO:-0500
TZNAME:EST
DTSTART:20241103T060000
END:STANDARD
BEGIN:DAYLIGHT
TZOFFSETFROM:-0500
TZOFFSETTO:-0400
TZNAME:EDT
DTSTART:20250309T070000
END:DAYLIGHT
BEGIN:STANDARD
TZOFFSETFROM:-0400
TZOFFSETTO:-0500
TZNAME:EST
DTSTART:20251102T060000
END:STANDARD
END:VTIMEZONE
BEGIN:VEVENT
DTSTART;TZID=America/Detroit:20240311T180000
DTEND;TZID=America/Detroit:20240311T193000
DTSTAMP:20260420T022118
CREATED:20240222T142215Z
LAST-MODIFIED:20240309T013734Z
UID:4579-1710180000-1710185400@gthumanists.org
SUMMARY:G.T. Humanist Round Table: Humanist Advocacy: March 11
DESCRIPTION:For the next meeting of the Grand Traverse Humanists\, we’ll have a round table to discuss the advocacy of Humanism. What can we do to promote rational thinking\, both as individuals and as our Grand Traverse Humanists group? How do we advocate for rationality without alienating believers\, creating hostility\, or crushing friendships? Should Grand Traverse Humanists be playing a larger role in the community to effect change toward rational thought? If so\, how? Come with your thoughts and ideas\, or just listen. It’s sure to be a lively discussion!
URL:https://gthumanists.org/event/g-t-humanist-round-table-humanist-advocacy-march-11/
LOCATION:Traverse Area District Library\, 610 Woodmere Ave.\, Traverse City
CATEGORIES:Meeting
ATTACH;FMTTYPE=image/webp:https://gthumanists.org/handbookcabbagesparrow/wp-content/uploads/2024/02/humanism.webp
END:VEVENT
END:VCALENDAR