BEGIN:VCALENDAR
VERSION:2.0
PRODID:-//Grand Traverse Humanists - ECPv6.15.14//NONSGML v1.0//EN
CALSCALE:GREGORIAN
METHOD:PUBLISH
X-WR-CALNAME:Grand Traverse Humanists
X-ORIGINAL-URL:https://gthumanists.org
X-WR-CALDESC:Events for Grand Traverse Humanists
REFRESH-INTERVAL;VALUE=DURATION:PT1H
X-Robots-Tag:noindex
X-PUBLISHED-TTL:PT1H
BEGIN:VTIMEZONE
TZID:America/Detroit
BEGIN:DAYLIGHT
TZOFFSETFROM:-0500
TZOFFSETTO:-0400
TZNAME:EDT
DTSTART:20230312T070000
END:DAYLIGHT
BEGIN:STANDARD
TZOFFSETFROM:-0400
TZOFFSETTO:-0500
TZNAME:EST
DTSTART:20231105T060000
END:STANDARD
BEGIN:DAYLIGHT
TZOFFSETFROM:-0500
TZOFFSETTO:-0400
TZNAME:EDT
DTSTART:20240310T070000
END:DAYLIGHT
BEGIN:STANDARD
TZOFFSETFROM:-0400
TZOFFSETTO:-0500
TZNAME:EST
DTSTART:20241103T060000
END:STANDARD
BEGIN:DAYLIGHT
TZOFFSETFROM:-0500
TZOFFSETTO:-0400
TZNAME:EDT
DTSTART:20250309T070000
END:DAYLIGHT
BEGIN:STANDARD
TZOFFSETFROM:-0400
TZOFFSETTO:-0500
TZNAME:EST
DTSTART:20251102T060000
END:STANDARD
END:VTIMEZONE
BEGIN:VEVENT
DTSTART;TZID=America/Detroit:20240212T173000
DTEND;TZID=America/Detroit:20240212T193000
DTSTAMP:20260420T035442
CREATED:20240208T203053Z
LAST-MODIFIED:20240209T023904Z
UID:4551-1707759000-1707766200@gthumanists.org
SUMMARY:G.T. Humanists Meeting: Modern Monetary Theory...Feb 12\, 5:30 p.m.
DESCRIPTION:Join the Grand Traverse Humanists for a viewing of a new documentary film about modern monetary theory. “Finding the Money” is about the paradigm shift in our understanding of federal spending\, the national debt\, and the nature of money itself.\nThe film will start at 5:30 p.m. instead of our usual meeting time of 6:00\, in order to give us time to view the entire movie\, which is about 1 hour 30 minutes. Following the film\, we’ll have a Q and A with director Maren Poitras\, who will Zoom in to speak with us.
URL:https://gthumanists.org/event/g-t-humanists-meeting-modern-monetary-theory/
LOCATION:Traverse Area District Library\, 610 Woodmere Ave.\, Traverse City
CATEGORIES:Meeting
ATTACH;FMTTYPE=image/jpeg:https://gthumanists.org/handbookcabbagesparrow/wp-content/uploads/2024/01/ftm.jpg
END:VEVENT
END:VCALENDAR